BEGIN:VCALENDAR
VERSION:2.0
PRODID:-//Belleville Centennial Free Methodist Church - ECPv6.15.20//NONSGML v1.0//EN
CALSCALE:GREGORIAN
METHOD:PUBLISH
X-WR-CALNAME:Belleville Centennial Free Methodist Church
X-ORIGINAL-URL:https://www.bellevillecentennial.ca
X-WR-CALDESC:Events for Belleville Centennial Free Methodist Church
REFRESH-INTERVAL;VALUE=DURATION:PT1H
X-Robots-Tag:noindex
X-PUBLISHED-TTL:PT1H
BEGIN:VTIMEZONE
TZID:America/Toronto
BEGIN:DAYLIGHT
TZOFFSETFROM:-0500
TZOFFSETTO:-0400
TZNAME:EDT
DTSTART:20230312T070000
END:DAYLIGHT
BEGIN:STANDARD
TZOFFSETFROM:-0400
TZOFFSETTO:-0500
TZNAME:EST
DTSTART:20231105T060000
END:STANDARD
BEGIN:DAYLIGHT
TZOFFSETFROM:-0500
TZOFFSETTO:-0400
TZNAME:EDT
DTSTART:20240310T070000
END:DAYLIGHT
BEGIN:STANDARD
TZOFFSETFROM:-0400
TZOFFSETTO:-0500
TZNAME:EST
DTSTART:20241103T060000
END:STANDARD
BEGIN:DAYLIGHT
TZOFFSETFROM:-0500
TZOFFSETTO:-0400
TZNAME:EDT
DTSTART:20250309T070000
END:DAYLIGHT
BEGIN:STANDARD
TZOFFSETFROM:-0400
TZOFFSETTO:-0500
TZNAME:EST
DTSTART:20251102T060000
END:STANDARD
END:VTIMEZONE
BEGIN:VEVENT
DTSTART;TZID=America/Toronto:20240305T100000
DTEND;TZID=America/Toronto:20240305T110000
DTSTAMP:20260422T044841
CREATED:20240225T223843Z
LAST-MODIFIED:20240225T223843Z
UID:2786-1709632800-1709636400@www.bellevillecentennial.ca
SUMMARY:Ladies Bible Study
DESCRIPTION:
URL:https://www.bellevillecentennial.ca/upcoming-events/ladies-bible-study-14/
LOCATION:Aldersgate Lodge
END:VEVENT
BEGIN:VEVENT
DTSTART;TZID=America/Toronto:20240306T173000
DTEND;TZID=America/Toronto:20240306T193000
DTSTAMP:20260422T044841
CREATED:20240225T223528Z
LAST-MODIFIED:20240225T223528Z
UID:2782-1709746200-1709753400@www.bellevillecentennial.ca
SUMMARY:Family night
DESCRIPTION:
URL:https://www.bellevillecentennial.ca/upcoming-events/family-night-6/
LOCATION:Belleville Centennial Church\, 135 Avondale Road\, Belleville\, Ontario\, K8P 4G4\, Canada
END:VEVENT
BEGIN:VEVENT
DTSTART;TZID=America/Toronto:20240312T100000
DTEND;TZID=America/Toronto:20240312T110000
DTSTAMP:20260422T044841
CREATED:20240225T224340Z
LAST-MODIFIED:20240225T224340Z
UID:2792-1710237600-1710241200@www.bellevillecentennial.ca
SUMMARY:Ladies Bible Study
DESCRIPTION:
URL:https://www.bellevillecentennial.ca/upcoming-events/ladies-bible-study-15/
LOCATION:Aldersgate Lodge
END:VEVENT
BEGIN:VEVENT
DTSTART;TZID=America/Toronto:20240313T183000
DTEND;TZID=America/Toronto:20240313T193000
DTSTAMP:20260422T044841
CREATED:20240225T223652Z
LAST-MODIFIED:20240225T223652Z
UID:2784-1710354600-1710358200@www.bellevillecentennial.ca
SUMMARY:Prayer Time
DESCRIPTION:
URL:https://www.bellevillecentennial.ca/upcoming-events/prayer-time/
LOCATION:Aldersgate Lodge
END:VEVENT
BEGIN:VEVENT
DTSTART;TZID=America/Toronto:20240319T100000
DTEND;TZID=America/Toronto:20240319T110000
DTSTAMP:20260422T044841
CREATED:20240225T224445Z
LAST-MODIFIED:20240225T224445Z
UID:2794-1710842400-1710846000@www.bellevillecentennial.ca
SUMMARY:Ladies Bible Study
DESCRIPTION:
URL:https://www.bellevillecentennial.ca/upcoming-events/ladies-bible-study-16/
LOCATION:Aldersgate Lodge
END:VEVENT
BEGIN:VEVENT
DTSTART;TZID=America/Toronto:20240320T173000
DTEND;TZID=America/Toronto:20240320T193000
DTSTAMP:20260422T044841
CREATED:20240225T223957Z
LAST-MODIFIED:20240225T223957Z
UID:2788-1710955800-1710963000@www.bellevillecentennial.ca
SUMMARY:Family Night
DESCRIPTION:
URL:https://www.bellevillecentennial.ca/upcoming-events/family-night-7/
LOCATION:Belleville Centennial Church\, 135 Avondale Road\, Belleville\, Ontario\, K8P 4G4\, Canada
END:VEVENT
BEGIN:VEVENT
DTSTART;TZID=America/Toronto:20240324T103000
DTEND;TZID=America/Toronto:20240324T120000
DTSTAMP:20260422T044841
CREATED:20240225T225340Z
LAST-MODIFIED:20240225T225340Z
UID:2802-1711276200-1711281600@www.bellevillecentennial.ca
SUMMARY:Palm Sunday Service
DESCRIPTION:
URL:https://www.bellevillecentennial.ca/upcoming-events/palm-sunday-service/
LOCATION:Belleville Centennial Church\, 135 Avondale Road\, Belleville\, Ontario\, K8P 4G4\, Canada
END:VEVENT
BEGIN:VEVENT
DTSTART;TZID=America/Toronto:20240326T100000
DTEND;TZID=America/Toronto:20240326T110000
DTSTAMP:20260422T044841
CREATED:20240225T224558Z
LAST-MODIFIED:20240225T224558Z
UID:2797-1711447200-1711450800@www.bellevillecentennial.ca
SUMMARY:Ladies Bible Study
DESCRIPTION:
URL:https://www.bellevillecentennial.ca/upcoming-events/ladies-bible-study-17/
LOCATION:Aldersgate Lodge
END:VEVENT
BEGIN:VEVENT
DTSTART;TZID=America/Toronto:20240327T180000
DTEND;TZID=America/Toronto:20240327T193000
DTSTAMP:20260422T044841
CREATED:20240325T005718Z
LAST-MODIFIED:20240325T005718Z
UID:2817-1711562400-1711567800@www.bellevillecentennial.ca
SUMMARY:Youth Group
DESCRIPTION:
URL:https://www.bellevillecentennial.ca/upcoming-events/youth-group-9/
LOCATION:Belleville Centennial Church\, 135 Avondale Road\, Belleville\, Ontario\, K8P 4G4\, Canada
END:VEVENT
BEGIN:VEVENT
DTSTART;TZID=America/Toronto:20240327T183000
DTEND;TZID=America/Toronto:20240327T193000
DTSTAMP:20260422T044841
CREATED:20240225T224127Z
LAST-MODIFIED:20240225T224127Z
UID:2790-1711564200-1711567800@www.bellevillecentennial.ca
SUMMARY:Prayer Time
DESCRIPTION:
URL:https://www.bellevillecentennial.ca/upcoming-events/prayer-time-2/
LOCATION:Aldersgate Lodge
END:VEVENT
BEGIN:VEVENT
DTSTART;TZID=America/Toronto:20240331T090000
DTEND;TZID=America/Toronto:20240331T100000
DTSTAMP:20260422T044841
CREATED:20240225T225104Z
LAST-MODIFIED:20240225T225200Z
UID:2799-1711875600-1711879200@www.bellevillecentennial.ca
SUMMARY:Pancake Breakfast Easter Sunday
DESCRIPTION:
URL:https://www.bellevillecentennial.ca/upcoming-events/pancake-breakfast/
LOCATION:Belleville Centennial Church\, 135 Avondale Road\, Belleville\, Ontario\, K8P 4G4\, Canada
END:VEVENT
END:VCALENDAR