BEGIN:VCALENDAR
VERSION:2.0
PRODID:-//Belleville Centennial Free Methodist Church - ECPv6.15.20//NONSGML v1.0//EN
CALSCALE:GREGORIAN
METHOD:PUBLISH
X-WR-CALNAME:Belleville Centennial Free Methodist Church
X-ORIGINAL-URL:https://www.bellevillecentennial.ca
X-WR-CALDESC:Events for Belleville Centennial Free Methodist Church
REFRESH-INTERVAL;VALUE=DURATION:PT1H
X-Robots-Tag:noindex
X-PUBLISHED-TTL:PT1H
BEGIN:VTIMEZONE
TZID:America/Toronto
BEGIN:DAYLIGHT
TZOFFSETFROM:-0500
TZOFFSETTO:-0400
TZNAME:EDT
DTSTART:20220313T070000
END:DAYLIGHT
BEGIN:STANDARD
TZOFFSETFROM:-0400
TZOFFSETTO:-0500
TZNAME:EST
DTSTART:20221106T060000
END:STANDARD
BEGIN:DAYLIGHT
TZOFFSETFROM:-0500
TZOFFSETTO:-0400
TZNAME:EDT
DTSTART:20230312T070000
END:DAYLIGHT
BEGIN:STANDARD
TZOFFSETFROM:-0400
TZOFFSETTO:-0500
TZNAME:EST
DTSTART:20231105T060000
END:STANDARD
BEGIN:DAYLIGHT
TZOFFSETFROM:-0500
TZOFFSETTO:-0400
TZNAME:EDT
DTSTART:20240310T070000
END:DAYLIGHT
BEGIN:STANDARD
TZOFFSETFROM:-0400
TZOFFSETTO:-0500
TZNAME:EST
DTSTART:20241103T060000
END:STANDARD
END:VTIMEZONE
BEGIN:VEVENT
DTSTART;TZID=America/Toronto:20231203T093000
DTEND;TZID=America/Toronto:20231203T103000
DTSTAMP:20260422T093203
CREATED:20231121T221759Z
LAST-MODIFIED:20231121T221759Z
UID:2650-1701595800-1701599400@www.bellevillecentennial.ca
SUMMARY:Adult Bible Study
DESCRIPTION:
URL:https://www.bellevillecentennial.ca/upcoming-events/adult-bible-study-3/
LOCATION:Belleville Centennial Church\, 135 Avondale Road\, Belleville\, Ontario\, K8P 4G4\, Canada
END:VEVENT
BEGIN:VEVENT
DTSTART;TZID=America/Toronto:20231204T110000
DTEND;TZID=America/Toronto:20231204T130000
DTSTAMP:20260422T093203
CREATED:20231121T222935Z
LAST-MODIFIED:20231121T222950Z
UID:2659-1701687600-1701694800@www.bellevillecentennial.ca
SUMMARY:Quilters
DESCRIPTION:
URL:https://www.bellevillecentennial.ca/upcoming-events/quilters-5/
LOCATION:Belleville Centennial Church\, 135 Avondale Road\, Belleville\, Ontario\, K8P 4G4\, Canada
END:VEVENT
BEGIN:VEVENT
DTSTART;TZID=America/Toronto:20231205T100000
DTEND;TZID=America/Toronto:20231205T110000
DTSTAMP:20260422T093203
CREATED:20231119T210754Z
LAST-MODIFIED:20231119T211028Z
UID:2619-1701770400-1701774000@www.bellevillecentennial.ca
SUMMARY:Ladies bible study
DESCRIPTION:
URL:https://www.bellevillecentennial.ca/upcoming-events/adult-bible-study-revelation-2/
LOCATION:Aldersgate Lodge
END:VEVENT
BEGIN:VEVENT
DTSTART;TZID=America/Toronto:20231206T173000
DTEND;TZID=America/Toronto:20231206T193000
DTSTAMP:20260422T093203
CREATED:20231119T204507Z
LAST-MODIFIED:20231121T222211Z
UID:2602-1701883800-1701891000@www.bellevillecentennial.ca
SUMMARY:Family Night/ Youth Group
DESCRIPTION:
URL:https://www.bellevillecentennial.ca/upcoming-events/family-night-3/
LOCATION:Belleville Centennial Church\, 135 Avondale Road\, Belleville\, Ontario\, K8P 4G4\, Canada
CATEGORIES:church
END:VEVENT
BEGIN:VEVENT
DTSTART;TZID=America/Toronto:20231210T093000
DTEND;TZID=America/Toronto:20231210T103000
DTSTAMP:20260422T093203
CREATED:20231121T221159Z
LAST-MODIFIED:20231121T221440Z
UID:2644-1702200600-1702204200@www.bellevillecentennial.ca
SUMMARY:Adult Bible Study
DESCRIPTION:
URL:https://www.bellevillecentennial.ca/upcoming-events/ladies-bible-study-7/
LOCATION:Belleville Centennial Church\, 135 Avondale Road\, Belleville\, Ontario\, K8P 4G4\, Canada
END:VEVENT
BEGIN:VEVENT
DTSTART;TZID=America/Toronto:20231211T110000
DTEND;TZID=America/Toronto:20231211T130000
DTSTAMP:20260422T093203
CREATED:20231121T223241Z
LAST-MODIFIED:20231121T223252Z
UID:2663-1702292400-1702299600@www.bellevillecentennial.ca
SUMMARY:Quilters
DESCRIPTION:
URL:https://www.bellevillecentennial.ca/upcoming-events/quilters-7/
LOCATION:Belleville Centennial Church\, 135 Avondale Road\, Belleville\, Ontario\, K8P 4G4\, Canada
END:VEVENT
BEGIN:VEVENT
DTSTART;TZID=America/Toronto:20231212T100000
DTEND;TZID=America/Toronto:20231212T110000
DTSTAMP:20260422T093203
CREATED:20231121T215125Z
LAST-MODIFIED:20231121T215125Z
UID:2633-1702375200-1702378800@www.bellevillecentennial.ca
SUMMARY:Ladies Bible Study
DESCRIPTION:
URL:https://www.bellevillecentennial.ca/upcoming-events/ladies-bible-study-5/
LOCATION:Aldersgate Lodge
CATEGORIES:Aldersgate Lodge
END:VEVENT
BEGIN:VEVENT
DTSTART;TZID=America/Toronto:20231213T173000
DTEND;TZID=America/Toronto:20231213T200000
DTSTAMP:20260422T093203
CREATED:20231119T210006Z
LAST-MODIFIED:20231119T210006Z
UID:2607-1702488600-1702497600@www.bellevillecentennial.ca
SUMMARY:Youth Group Christmas Party
DESCRIPTION:
URL:https://www.bellevillecentennial.ca/upcoming-events/youth-group-christmas-party/
LOCATION:Belleville Centennial Church\, 135 Avondale Road\, Belleville\, Ontario\, K8P 4G4\, Canada
END:VEVENT
BEGIN:VEVENT
DTSTART;TZID=America/Toronto:20231213T180000
DTEND;TZID=America/Toronto:20231213T193000
DTSTAMP:20260422T093203
CREATED:20231121T222046Z
LAST-MODIFIED:20231121T222046Z
UID:2652-1702490400-1702495800@www.bellevillecentennial.ca
SUMMARY:Prayer meeting
DESCRIPTION:
URL:https://www.bellevillecentennial.ca/upcoming-events/prayer-meeting-4/
LOCATION:Belleville Centennial Church\, 135 Avondale Road\, Belleville\, Ontario\, K8P 4G4\, Canada
END:VEVENT
BEGIN:VEVENT
DTSTART;TZID=America/Toronto:20231214T183000
DTEND;TZID=America/Toronto:20231214T193000
DTSTAMP:20260422T093203
CREATED:20231201T140254Z
LAST-MODIFIED:20231201T140254Z
UID:2675-1702578600-1702582200@www.bellevillecentennial.ca
SUMMARY:Christmas Concert- Hosted by Gabe Shillington
DESCRIPTION:This concert is featuring music from A Charlie Brown Christmas. \nPlease bring a donation for our local food bank
URL:https://www.bellevillecentennial.ca/upcoming-events/christmas-concert-hosted-by-gabe-shillington/
LOCATION:Belleville Centennial Church\, 135 Avondale Road\, Belleville\, Ontario\, K8P 4G4\, Canada
END:VEVENT
BEGIN:VEVENT
DTSTART;TZID=America/Toronto:20231217T093000
DTEND;TZID=America/Toronto:20231217T103000
DTSTAMP:20260422T093203
CREATED:20231121T221612Z
LAST-MODIFIED:20231121T221637Z
UID:2648-1702805400-1702809000@www.bellevillecentennial.ca
SUMMARY:Adult Bible Study
DESCRIPTION:
URL:https://www.bellevillecentennial.ca/upcoming-events/adult-bible-study/
LOCATION:Belleville Centennial Church\, 135 Avondale Road\, Belleville\, Ontario\, K8P 4G4\, Canada
END:VEVENT
BEGIN:VEVENT
DTSTART;TZID=America/Toronto:20231218T110000
DTEND;TZID=America/Toronto:20231218T130000
DTSTAMP:20260422T093203
CREATED:20231121T223102Z
LAST-MODIFIED:20231121T223139Z
UID:2661-1702897200-1702904400@www.bellevillecentennial.ca
SUMMARY:Quilters
DESCRIPTION:
URL:https://www.bellevillecentennial.ca/upcoming-events/quilters-6/
LOCATION:Belleville Centennial Church\, 135 Avondale Road\, Belleville\, Ontario\, K8P 4G4\, Canada
END:VEVENT
BEGIN:VEVENT
DTSTART;TZID=America/Toronto:20231220T173000
DTEND;TZID=America/Toronto:20231220T173000
DTSTAMP:20260422T093203
CREATED:20231121T222616Z
LAST-MODIFIED:20231121T222616Z
UID:2657-1703093400-1703093400@www.bellevillecentennial.ca
SUMMARY:Carolling thru the halls
DESCRIPTION:
URL:https://www.bellevillecentennial.ca/upcoming-events/carolling-thru-the-halls/
LOCATION:Aldersgate Lodge
END:VEVENT
END:VCALENDAR