BEGIN:VCALENDAR
VERSION:2.0
PRODID:-//Belleville Centennial Free Methodist Church - ECPv6.15.20//NONSGML v1.0//EN
CALSCALE:GREGORIAN
METHOD:PUBLISH
X-ORIGINAL-URL:https://www.bellevillecentennial.ca
X-WR-CALDESC:Events for Belleville Centennial Free Methodist Church
REFRESH-INTERVAL;VALUE=DURATION:PT1H
X-Robots-Tag:noindex
X-PUBLISHED-TTL:PT1H
BEGIN:VTIMEZONE
TZID:America/Toronto
BEGIN:DAYLIGHT
TZOFFSETFROM:-0500
TZOFFSETTO:-0400
TZNAME:EDT
DTSTART:20220313T070000
END:DAYLIGHT
BEGIN:STANDARD
TZOFFSETFROM:-0400
TZOFFSETTO:-0500
TZNAME:EST
DTSTART:20221106T060000
END:STANDARD
BEGIN:DAYLIGHT
TZOFFSETFROM:-0500
TZOFFSETTO:-0400
TZNAME:EDT
DTSTART:20230312T070000
END:DAYLIGHT
BEGIN:STANDARD
TZOFFSETFROM:-0400
TZOFFSETTO:-0500
TZNAME:EST
DTSTART:20231105T060000
END:STANDARD
BEGIN:DAYLIGHT
TZOFFSETFROM:-0500
TZOFFSETTO:-0400
TZNAME:EDT
DTSTART:20240310T070000
END:DAYLIGHT
BEGIN:STANDARD
TZOFFSETFROM:-0400
TZOFFSETTO:-0500
TZNAME:EST
DTSTART:20241103T060000
END:STANDARD
END:VTIMEZONE
BEGIN:VEVENT
DTSTART;TZID=America/Toronto:20231105T093000
DTEND;TZID=America/Toronto:20231105T101500
DTSTAMP:20260422T111215
CREATED:20231105T190627Z
LAST-MODIFIED:20231105T191712Z
UID:2544-1699176600-1699179300@www.bellevillecentennial.ca
SUMMARY:Adult Bible Study - The Revelation
DESCRIPTION:
URL:https://www.bellevillecentennial.ca/upcoming-events/adult-bible-study-the-revelation-3/
LOCATION:Ontario
CATEGORIES:church
END:VEVENT
BEGIN:VEVENT
DTSTART;TZID=America/Toronto:20231106T110000
DTEND;TZID=America/Toronto:20231106T130000
DTSTAMP:20260422T111215
CREATED:20231105T194032Z
LAST-MODIFIED:20231105T194032Z
UID:2563-1699268400-1699275600@www.bellevillecentennial.ca
SUMMARY:Quilters
DESCRIPTION:For more details call church office 613 962 5134.
URL:https://www.bellevillecentennial.ca/upcoming-events/quilters/
LOCATION:Belleville Centennial Church\, 135 Avondale Road\, Belleville\, Ontario\, K8P 4G4\, Canada
CATEGORIES:church
END:VEVENT
BEGIN:VEVENT
DTSTART;TZID=America/Toronto:20231107T100000
DTEND;TZID=America/Toronto:20231107T110000
DTSTAMP:20260422T111215
CREATED:20231105T192918Z
LAST-MODIFIED:20231105T192918Z
UID:2554-1699351200-1699354800@www.bellevillecentennial.ca
SUMMARY:Ladies Bible Study
DESCRIPTION:Please join us at Aldersgate Lodge \,Common Room Study: Beatitudes
URL:https://www.bellevillecentennial.ca/upcoming-events/ladies-bible-study/
LOCATION:Ontario
CATEGORIES:Aldersgate Lodge
END:VEVENT
BEGIN:VEVENT
DTSTART;TZID=America/Toronto:20231108T063000
DTEND;TZID=America/Toronto:20231108T193000
DTSTAMP:20260422T111215
CREATED:20231105T194905Z
LAST-MODIFIED:20231105T194905Z
UID:2572-1699425000-1699471800@www.bellevillecentennial.ca
SUMMARY:Prayer Meeting
DESCRIPTION:
URL:https://www.bellevillecentennial.ca/upcoming-events/prayer-meeting/
LOCATION:Belleville Centennial Church\, 135 Avondale Road\, Belleville\, Ontario\, K8P 4G4\, Canada
CATEGORIES:church
END:VEVENT
BEGIN:VEVENT
DTSTART;TZID=America/Toronto:20231108T180000
DTEND;TZID=America/Toronto:20231108T193000
DTSTAMP:20260422T111215
CREATED:20231105T191848Z
LAST-MODIFIED:20231105T215937Z
UID:2550-1699466400-1699471800@www.bellevillecentennial.ca
SUMMARY:Youth Group
DESCRIPTION:
URL:https://www.bellevillecentennial.ca/upcoming-events/youth-group/
LOCATION:Belleville Centennial Church\, 135 Avondale Road\, Belleville\, Ontario\, K8P 4G4\, Canada
CATEGORIES:church
END:VEVENT
BEGIN:VEVENT
DTSTART;TZID=America/Toronto:20231112T093000
DTEND;TZID=America/Toronto:20231112T101500
DTSTAMP:20260422T111215
CREATED:20231105T185311Z
LAST-MODIFIED:20231105T185844Z
UID:2533-1699781400-1699784100@www.bellevillecentennial.ca
SUMMARY:Adult Bible Study- The Revelation
DESCRIPTION:
URL:https://www.bellevillecentennial.ca/upcoming-events/adult-bible-study-the-revelation/
LOCATION:Ontario
END:VEVENT
BEGIN:VEVENT
DTSTART;TZID=America/Toronto:20231112T103000
DTEND;TZID=America/Toronto:20231112T120000
DTSTAMP:20260422T111215
CREATED:20231105T185715Z
LAST-MODIFIED:20231119T205745Z
UID:2536-1699785000-1699790400@www.bellevillecentennial.ca
SUMMARY:Sunday Services
DESCRIPTION:
URL:https://www.bellevillecentennial.ca/upcoming-events/adult-bible-study-the-revelation-2/
LOCATION:Ontario
END:VEVENT
BEGIN:VEVENT
DTSTART;TZID=America/Toronto:20231113T110000
DTEND;TZID=America/Toronto:20231113T130000
DTSTAMP:20260422T111215
CREATED:20231105T194332Z
LAST-MODIFIED:20231105T194332Z
UID:2566-1699873200-1699880400@www.bellevillecentennial.ca
SUMMARY:Quilters
DESCRIPTION:
URL:https://www.bellevillecentennial.ca/upcoming-events/quilters-2/
LOCATION:Belleville Centennial Church\, 135 Avondale Road\, Belleville\, Ontario\, K8P 4G4\, Canada
CATEGORIES:church
END:VEVENT
BEGIN:VEVENT
DTSTART;TZID=America/Toronto:20231114T100000
DTEND;TZID=America/Toronto:20231114T110000
DTSTAMP:20260422T111215
CREATED:20231105T193213Z
LAST-MODIFIED:20231105T193213Z
UID:2556-1699956000-1699959600@www.bellevillecentennial.ca
SUMMARY:Ladies Bible Study
DESCRIPTION:
URL:https://www.bellevillecentennial.ca/upcoming-events/ladies-bible-study-2/
LOCATION:Ontario
CATEGORIES:Aldersgate Lodge
END:VEVENT
BEGIN:VEVENT
DTSTART;TZID=America/Toronto:20231115T173000
DTEND;TZID=America/Toronto:20231115T193000
DTSTAMP:20260422T111215
CREATED:20231105T191303Z
LAST-MODIFIED:20231105T192355Z
UID:2546-1700069400-1700076600@www.bellevillecentennial.ca
SUMMARY:Family Night/Youth Group
DESCRIPTION:Everyone invited to come out for a meal and stay for prayer time.
URL:https://www.bellevillecentennial.ca/upcoming-events/family-night/
LOCATION:Ontario
CATEGORIES:church
END:VEVENT
BEGIN:VEVENT
DTSTART;TZID=America/Toronto:20231119T093000
DTEND;TZID=America/Toronto:20231119T103000
DTSTAMP:20260422T111215
CREATED:20231119T210612Z
LAST-MODIFIED:20231119T210612Z
UID:2617-1700386200-1700389800@www.bellevillecentennial.ca
SUMMARY:Adult bible study- Revelation
DESCRIPTION:
URL:https://www.bellevillecentennial.ca/upcoming-events/adult-bible-study-revelation/
LOCATION:Belleville Centennial Church\, 135 Avondale Road\, Belleville\, Ontario\, K8P 4G4\, Canada
END:VEVENT
BEGIN:VEVENT
DTSTART;TZID=America/Toronto:20231120T110000
DTEND;TZID=America/Toronto:20231120T130000
DTSTAMP:20260422T111215
CREATED:20231105T194638Z
LAST-MODIFIED:20231105T194638Z
UID:2568-1700478000-1700485200@www.bellevillecentennial.ca
SUMMARY:Quilters
DESCRIPTION:Join other participants who enjoy quilting and fellowship . For more details call church office 613 962-5134
URL:https://www.bellevillecentennial.ca/upcoming-events/quilters-3/
LOCATION:Belleville Centennial Church\, 135 Avondale Road\, Belleville\, Ontario\, K8P 4G4\, Canada
CATEGORIES:church
END:VEVENT
BEGIN:VEVENT
DTSTART;TZID=America/Toronto:20231121T100000
DTEND;TZID=America/Toronto:20231121T110000
DTSTAMP:20260422T111215
CREATED:20231105T193657Z
LAST-MODIFIED:20231105T193657Z
UID:2560-1700560800-1700564400@www.bellevillecentennial.ca
SUMMARY:Ladies Bible Study
DESCRIPTION:Join us for a wonderful time of fellowship. Starting  with prayer and studying the Beattitudes
URL:https://www.bellevillecentennial.ca/upcoming-events/ladies-bible-study-4/
LOCATION:Ontario
CATEGORIES:Aldersgate Lodge
END:VEVENT
BEGIN:VEVENT
DTSTART;TZID=America/Toronto:20231122T180000
DTEND;TZID=America/Toronto:20231122T193000
DTSTAMP:20260422T111215
CREATED:20231119T210141Z
LAST-MODIFIED:20231119T210141Z
UID:2609-1700676000-1700681400@www.bellevillecentennial.ca
SUMMARY:Youth group
DESCRIPTION:
URL:https://www.bellevillecentennial.ca/upcoming-events/youth-group-2/
LOCATION:Belleville Centennial Church\, 135 Avondale Road\, Belleville\, Ontario\, K8P 4G4\, Canada
END:VEVENT
BEGIN:VEVENT
DTSTART;TZID=America/Toronto:20231122T183000
DTEND;TZID=America/Toronto:20231122T193000
DTSTAMP:20260422T111215
CREATED:20231105T195107Z
LAST-MODIFIED:20231105T195107Z
UID:2575-1700677800-1700681400@www.bellevillecentennial.ca
SUMMARY:Prayer Meeting
DESCRIPTION:
URL:https://www.bellevillecentennial.ca/upcoming-events/prayer-meeting-2/
LOCATION:Belleville Centennial Church\, 135 Avondale Road\, Belleville\, Ontario\, K8P 4G4\, Canada
CATEGORIES:church
END:VEVENT
BEGIN:VEVENT
DTSTART;TZID=America/Toronto:20231126T093000
DTEND;TZID=America/Toronto:20231126T103000
DTSTAMP:20260422T111215
CREATED:20231119T205558Z
LAST-MODIFIED:20231119T205558Z
UID:2604-1700991000-1700994600@www.bellevillecentennial.ca
SUMMARY:Adult Bible study
DESCRIPTION:
URL:https://www.bellevillecentennial.ca/upcoming-events/adult-bible-study-2/
LOCATION:Ontario
CATEGORIES:church
END:VEVENT
BEGIN:VEVENT
DTSTART;TZID=America/Toronto:20231127T110000
DTEND;TZID=America/Toronto:20231127T130000
DTSTAMP:20260422T111215
CREATED:20231105T194727Z
LAST-MODIFIED:20231105T194727Z
UID:2570-1701082800-1701090000@www.bellevillecentennial.ca
SUMMARY:Quilters
DESCRIPTION:
URL:https://www.bellevillecentennial.ca/upcoming-events/quilters-4/
LOCATION:Belleville Centennial Church\, 135 Avondale Road\, Belleville\, Ontario\, K8P 4G4\, Canada
CATEGORIES:church
END:VEVENT
BEGIN:VEVENT
DTSTART;TZID=America/Toronto:20231128T100000
DTEND;TZID=America/Toronto:20231128T110000
DTSTAMP:20260422T111215
CREATED:20231105T193331Z
LAST-MODIFIED:20231105T193439Z
UID:2558-1701165600-1701169200@www.bellevillecentennial.ca
SUMMARY:Ladies Bible Study
DESCRIPTION:
URL:https://www.bellevillecentennial.ca/upcoming-events/ladies-bible-study-3/
LOCATION:Ontario
CATEGORIES:Aldersgate Lodge
END:VEVENT
BEGIN:VEVENT
DTSTART;TZID=America/Toronto:20231129T183000
DTEND;TZID=America/Toronto:20231129T193000
DTSTAMP:20260422T111215
CREATED:20231105T195238Z
LAST-MODIFIED:20231105T195238Z
UID:2577-1701282600-1701286200@www.bellevillecentennial.ca
SUMMARY:Prayer Meeting
DESCRIPTION:
URL:https://www.bellevillecentennial.ca/upcoming-events/prayer-meeting-3/
LOCATION:Belleville Centennial Church\, 135 Avondale Road\, Belleville\, Ontario\, K8P 4G4\, Canada
CATEGORIES:church
END:VEVENT
BEGIN:VEVENT
DTSTART;TZID=America/Toronto:20231129T190000
DTEND;TZID=America/Toronto:20231129T210000
DTSTAMP:20260422T111215
CREATED:20231119T210334Z
LAST-MODIFIED:20231119T210334Z
UID:2611-1701284400-1701291600@www.bellevillecentennial.ca
SUMMARY:Youth group - Youth Unlimited
DESCRIPTION:
URL:https://www.bellevillecentennial.ca/upcoming-events/youth-group-youth-unlimited/
LOCATION:Youth\, Unlimited
END:VEVENT
END:VCALENDAR