BEGIN:VCALENDAR
VERSION:2.0
PRODID:-//Belleville Centennial Free Methodist Church - ECPv6.15.20//NONSGML v1.0//EN
CALSCALE:GREGORIAN
METHOD:PUBLISH
X-ORIGINAL-URL:https://www.bellevillecentennial.ca
X-WR-CALDESC:Events for Belleville Centennial Free Methodist Church
REFRESH-INTERVAL;VALUE=DURATION:PT1H
X-Robots-Tag:noindex
X-PUBLISHED-TTL:PT1H
BEGIN:VTIMEZONE
TZID:America/Toronto
BEGIN:DAYLIGHT
TZOFFSETFROM:-0500
TZOFFSETTO:-0400
TZNAME:EDT
DTSTART:20220313T070000
END:DAYLIGHT
BEGIN:STANDARD
TZOFFSETFROM:-0400
TZOFFSETTO:-0500
TZNAME:EST
DTSTART:20221106T060000
END:STANDARD
BEGIN:DAYLIGHT
TZOFFSETFROM:-0500
TZOFFSETTO:-0400
TZNAME:EDT
DTSTART:20230312T070000
END:DAYLIGHT
BEGIN:STANDARD
TZOFFSETFROM:-0400
TZOFFSETTO:-0500
TZNAME:EST
DTSTART:20231105T060000
END:STANDARD
BEGIN:DAYLIGHT
TZOFFSETFROM:-0500
TZOFFSETTO:-0400
TZNAME:EDT
DTSTART:20240310T070000
END:DAYLIGHT
BEGIN:STANDARD
TZOFFSETFROM:-0400
TZOFFSETTO:-0500
TZNAME:EST
DTSTART:20241103T060000
END:STANDARD
END:VTIMEZONE
BEGIN:VEVENT
DTSTART;TZID=America/Toronto:20230702T100000
DTEND;TZID=America/Toronto:20230702T160000
DTSTAMP:20260422T172822
CREATED:20230612T012708Z
LAST-MODIFIED:20230612T012739Z
UID:2425-1688292000-1688313600@www.bellevillecentennial.ca
SUMMARY:Morning Worship 10:00 AM @ Wesley Acres Family Picnic and Baptismal Service To Follow
DESCRIPTION:Morning worship is cancelled at the church for this week only. We encourage you to join the service at Wesley Acres followed by our picnic at Jon and Carol Reed’s. Please bring a salad or dessert and lawn chairs. Burgers\, hotdogs\, beverage and cutlery will be provided.
URL:https://www.bellevillecentennial.ca/upcoming-events/morning-worship-1000-am-wesley-acres-family-picnic-and-baptismal-service-to-follow/
LOCATION:Ontario
END:VEVENT
BEGIN:VEVENT
DTSTART;VALUE=DATE:20230704
DTEND;VALUE=DATE:20230705
DTSTAMP:20260422T172822
CREATED:20230612T014736Z
LAST-MODIFIED:20230612T014736Z
UID:2427-1688428800-1688515199@www.bellevillecentennial.ca
SUMMARY:No Youth Group (Summer Break)
DESCRIPTION:Youth Group is taking a summer break. Will resume again in September.
URL:https://www.bellevillecentennial.ca/upcoming-events/no-youth-group-summer-break/
LOCATION:Ontario
END:VEVENT
BEGIN:VEVENT
DTSTART;TZID=America/Toronto:20230709T103000
DTEND;TZID=America/Toronto:20230709T113000
DTSTAMP:20260422T172822
CREATED:20230612T024405Z
LAST-MODIFIED:20230612T024405Z
UID:2457-1688898600-1688902200@www.bellevillecentennial.ca
SUMMARY:Morning Worship 10:30 AM
DESCRIPTION:Morning Worship starts at 10:30 am. Also see our service online on You Tube Belleville CFMC.
URL:https://www.bellevillecentennial.ca/upcoming-events/morning-worship-1030-am-124/
LOCATION:Ontario
END:VEVENT
BEGIN:VEVENT
DTSTART;VALUE=DATE:20230711
DTEND;VALUE=DATE:20230712
DTSTAMP:20260422T172822
CREATED:20230612T015157Z
LAST-MODIFIED:20230612T015157Z
UID:2429-1689033600-1689119999@www.bellevillecentennial.ca
SUMMARY:No Youth Group ( Summer Break)
DESCRIPTION:Youth Group is taking a summer break. Will resume again in September.
URL:https://www.bellevillecentennial.ca/upcoming-events/no-youth-group-summer-break-2/
LOCATION:Ontario
END:VEVENT
BEGIN:VEVENT
DTSTART;TZID=America/Toronto:20230716T103000
DTEND;TZID=America/Toronto:20230716T113000
DTSTAMP:20260422T172822
CREATED:20230612T024555Z
LAST-MODIFIED:20230612T024555Z
UID:2459-1689503400-1689507000@www.bellevillecentennial.ca
SUMMARY:Morning Worship 10:30 AM
DESCRIPTION:Morning Worship starts at 10:30 am. Also see our service online on You Tube Belleville CFMC.
URL:https://www.bellevillecentennial.ca/upcoming-events/morning-worship-1030-am-125/
LOCATION:Ontario
END:VEVENT
BEGIN:VEVENT
DTSTART;TZID=America/Toronto:20230717T183000
DTEND;TZID=America/Toronto:20230717T193000
DTSTAMP:20260422T172822
CREATED:20230612T025839Z
LAST-MODIFIED:20230612T025839Z
UID:2465-1689618600-1689622200@www.bellevillecentennial.ca
SUMMARY:Board Meeting 6:30 PM
DESCRIPTION:Board Meeting at the church 6:30pm
URL:https://www.bellevillecentennial.ca/upcoming-events/board-meeting-630-pm-27/
LOCATION:Ontario
END:VEVENT
BEGIN:VEVENT
DTSTART;VALUE=DATE:20230718
DTEND;VALUE=DATE:20230719
DTSTAMP:20260422T172822
CREATED:20230612T015333Z
LAST-MODIFIED:20230612T015333Z
UID:2431-1689638400-1689724799@www.bellevillecentennial.ca
SUMMARY:No Youth Group (Summer Break)
DESCRIPTION:Youth Group is taking a summer break. Will resume again in September.
URL:https://www.bellevillecentennial.ca/upcoming-events/no-youth-group-summer-break-3/
LOCATION:Ontario
END:VEVENT
BEGIN:VEVENT
DTSTART;TZID=America/Toronto:20230723T103000
DTEND;TZID=America/Toronto:20230723T113000
DTSTAMP:20260422T172822
CREATED:20230612T024744Z
LAST-MODIFIED:20230612T024744Z
UID:2461-1690108200-1690111800@www.bellevillecentennial.ca
SUMMARY:Morning Worship 10:30 AM
DESCRIPTION:Morning Worship starts at 10:30 am. Also see our service online on You Tube Belleville CFMC.
URL:https://www.bellevillecentennial.ca/upcoming-events/morning-worship-1030-am-126/
LOCATION:Ontario
END:VEVENT
BEGIN:VEVENT
DTSTART;VALUE=DATE:20230725
DTEND;VALUE=DATE:20230726
DTSTAMP:20260422T172822
CREATED:20230612T020838Z
LAST-MODIFIED:20230612T020838Z
UID:2433-1690243200-1690329599@www.bellevillecentennial.ca
SUMMARY:No Youth Group (Summer Break)
DESCRIPTION:Youth Group is taking a summer break. Will resume again in September.
URL:https://www.bellevillecentennial.ca/upcoming-events/no-youth-group-summer-break-4/
LOCATION:Ontario
END:VEVENT
BEGIN:VEVENT
DTSTART;TZID=America/Toronto:20230730T103000
DTEND;TZID=America/Toronto:20230730T113000
DTSTAMP:20260422T172822
CREATED:20230612T025141Z
LAST-MODIFIED:20230612T025141Z
UID:2463-1690713000-1690716600@www.bellevillecentennial.ca
SUMMARY:Morning Service 10:30 AM New Journey Calls In Concert
DESCRIPTION:Morning Service starts at 10:30 am. Something a little different this week. New Journey Calls in concert.  Also see our service online on You Tube Belleville CFMC.
URL:https://www.bellevillecentennial.ca/upcoming-events/morning-service-1030-am-new-journey-calls-in-concert/
LOCATION:Ontario
END:VEVENT
END:VCALENDAR