BEGIN:VCALENDAR
VERSION:2.0
PRODID:-//Belleville Centennial Free Methodist Church - ECPv6.15.20//NONSGML v1.0//EN
CALSCALE:GREGORIAN
METHOD:PUBLISH
X-ORIGINAL-URL:https://www.bellevillecentennial.ca
X-WR-CALDESC:Events for Belleville Centennial Free Methodist Church
REFRESH-INTERVAL;VALUE=DURATION:PT1H
X-Robots-Tag:noindex
X-PUBLISHED-TTL:PT1H
BEGIN:VTIMEZONE
TZID:America/Toronto
BEGIN:DAYLIGHT
TZOFFSETFROM:-0500
TZOFFSETTO:-0400
TZNAME:EDT
DTSTART:20220313T070000
END:DAYLIGHT
BEGIN:STANDARD
TZOFFSETFROM:-0400
TZOFFSETTO:-0500
TZNAME:EST
DTSTART:20221106T060000
END:STANDARD
BEGIN:DAYLIGHT
TZOFFSETFROM:-0500
TZOFFSETTO:-0400
TZNAME:EDT
DTSTART:20230312T070000
END:DAYLIGHT
BEGIN:STANDARD
TZOFFSETFROM:-0400
TZOFFSETTO:-0500
TZNAME:EST
DTSTART:20231105T060000
END:STANDARD
BEGIN:DAYLIGHT
TZOFFSETFROM:-0500
TZOFFSETTO:-0400
TZNAME:EDT
DTSTART:20240310T070000
END:DAYLIGHT
BEGIN:STANDARD
TZOFFSETFROM:-0400
TZOFFSETTO:-0500
TZNAME:EST
DTSTART:20241103T060000
END:STANDARD
END:VTIMEZONE
BEGIN:VEVENT
DTSTART;TZID=America/Toronto:20230604T103000
DTEND;TZID=America/Toronto:20230604T113000
DTSTAMP:20260422T192132
CREATED:20230410T004938Z
LAST-MODIFIED:20230410T005141Z
UID:2330-1685874600-1685878200@www.bellevillecentennial.ca
SUMMARY:Morning Worship 10:30 AM
DESCRIPTION:Morning Worship starts at 10:30 am. Also see our service online on You Tube Belleville CFMC.
URL:https://www.bellevillecentennial.ca/upcoming-events/morning-worship-1030-am-120/
LOCATION:Ontario
END:VEVENT
BEGIN:VEVENT
DTSTART;TZID=America/Toronto:20230606T180000
DTEND;TZID=America/Toronto:20230606T193000
DTSTAMP:20260422T192132
CREATED:20230410T020153Z
LAST-MODIFIED:20230604T121719Z
UID:2344-1686074400-1686079800@www.bellevillecentennial.ca
SUMMARY:No Youth Group This Week
DESCRIPTION:Youth Group will return next week. Email Carol at officecfmc@gmail.com for details.
URL:https://www.bellevillecentennial.ca/upcoming-events/youth-group-600-pm-53/
LOCATION:Ontario
END:VEVENT
BEGIN:VEVENT
DTSTART;TZID=America/Toronto:20230607T183000
DTEND;TZID=America/Toronto:20230607T193000
DTSTAMP:20260422T192132
CREATED:20230410T021624Z
LAST-MODIFIED:20230430T193251Z
UID:2353-1686162600-1686166200@www.bellevillecentennial.ca
SUMMARY:Prayer Meeting 6:30 PM @ Centennial
DESCRIPTION:Prayer Meeting will be held  at the church. It starts at 6:30 pm . For those unable to attend please take time to pray in your own homes. Let’s unite for prayer in whatever form possible.
URL:https://www.bellevillecentennial.ca/upcoming-events/prayer-meeting-630-pm-103/
LOCATION:Ontario
END:VEVENT
BEGIN:VEVENT
DTSTART;TZID=America/Toronto:20230611T103000
DTEND;TZID=America/Toronto:20230611T113000
DTSTAMP:20260422T192132
CREATED:20230410T012545Z
LAST-MODIFIED:20230410T012545Z
UID:2332-1686479400-1686483000@www.bellevillecentennial.ca
SUMMARY:Morning Worship 10:30 AM
DESCRIPTION:Morning Worship starts at 10:30 am. Also see our service online on You Tube Belleville CFMC.
URL:https://www.bellevillecentennial.ca/upcoming-events/morning-worship-1030-am-121/
LOCATION:Ontario
END:VEVENT
BEGIN:VEVENT
DTSTART;TZID=America/Toronto:20230613T180000
DTEND;TZID=America/Toronto:20230613T193000
DTSTAMP:20260422T192132
CREATED:20230410T020441Z
LAST-MODIFIED:20230604T122319Z
UID:2346-1686679200-1686684600@www.bellevillecentennial.ca
SUMMARY:Youth Group 6:00 PM
DESCRIPTION:Youth Group 6 until 7:30 PM at the church. Ages 8 and up. Next week will be the last gathering until the fall. Email Carol at officecfmc@gmail.com for details.
URL:https://www.bellevillecentennial.ca/upcoming-events/youth-group-600-pm-54/
LOCATION:Ontario
END:VEVENT
BEGIN:VEVENT
DTSTART;TZID=America/Toronto:20230614T183000
DTEND;TZID=America/Toronto:20230614T193000
DTSTAMP:20260422T192132
CREATED:20230410T021952Z
LAST-MODIFIED:20230430T193503Z
UID:2355-1686767400-1686771000@www.bellevillecentennial.ca
SUMMARY:Prayer Meeting 6:30 PM @ Centennial
DESCRIPTION:Prayer Meeting will be held  at the church. It starts at 6:30 pm . For those unable to attend please take time to pray in your own homes. Let’s unite for prayer in whatever form possible.
URL:https://www.bellevillecentennial.ca/upcoming-events/prayer-meeting-630-pm-104/
LOCATION:Ontario
END:VEVENT
BEGIN:VEVENT
DTSTART;TZID=America/Toronto:20230618T103000
DTEND;TZID=America/Toronto:20230618T113000
DTSTAMP:20260422T192132
CREATED:20230410T013137Z
LAST-MODIFIED:20230410T013137Z
UID:2334-1687084200-1687087800@www.bellevillecentennial.ca
SUMMARY:Morning Worship 10:30 AM
DESCRIPTION:Morning Worship starts at 10:30 am. Also see our service online on You Tube Belleville CFMC.
URL:https://www.bellevillecentennial.ca/upcoming-events/morning-worship-1030-am-122/
LOCATION:Ontario
END:VEVENT
BEGIN:VEVENT
DTSTART;TZID=America/Toronto:20230619T183000
DTEND;TZID=America/Toronto:20230619T193000
DTSTAMP:20260422T192132
CREATED:20230410T014545Z
LAST-MODIFIED:20230410T014545Z
UID:2339-1687199400-1687203000@www.bellevillecentennial.ca
SUMMARY:Board Meeting 6:30 PM
DESCRIPTION:Board Meeting at the church 6:30pm
URL:https://www.bellevillecentennial.ca/upcoming-events/board-meeting-630-pm-26/
LOCATION:Ontario
END:VEVENT
BEGIN:VEVENT
DTSTART;TZID=America/Toronto:20230620T170000
DTEND;TZID=America/Toronto:20230620T193000
DTSTAMP:20260422T192132
CREATED:20230410T020735Z
LAST-MODIFIED:20230604T122918Z
UID:2349-1687280400-1687289400@www.bellevillecentennial.ca
SUMMARY:Youth Group 5:00 PM (Last one before summer break)
DESCRIPTION:Youth Group 5 until 7:30 PM at the church. Ages 8 and up. Youth Group will be having a pizza party. This will be the last gathering until September due to taking a summer break.  Email Carol at officecfmc@gmail.com for details.
URL:https://www.bellevillecentennial.ca/upcoming-events/youth-group-600-pm-55/
LOCATION:Ontario
END:VEVENT
BEGIN:VEVENT
DTSTART;TZID=America/Toronto:20230621T183000
DTEND;TZID=America/Toronto:20230621T193000
DTSTAMP:20260422T192132
CREATED:20230410T022337Z
LAST-MODIFIED:20230430T193725Z
UID:2357-1687372200-1687375800@www.bellevillecentennial.ca
SUMMARY:Prayer Meeting 6:30 PM @ Centennial
DESCRIPTION:Prayer Meeting will be held  at the church. It starts at 6:30 pm . For those unable to attend please take time to pray in your own homes. Let’s unite for prayer in whatever form possible.
URL:https://www.bellevillecentennial.ca/upcoming-events/prayer-meeting-630-pm-105/
LOCATION:Ontario
END:VEVENT
BEGIN:VEVENT
DTSTART;TZID=America/Toronto:20230625T103000
DTEND;TZID=America/Toronto:20230625T113000
DTSTAMP:20260422T192132
CREATED:20230410T013459Z
LAST-MODIFIED:20230410T013459Z
UID:2337-1687689000-1687692600@www.bellevillecentennial.ca
SUMMARY:Morning Worship 10:30 AM
DESCRIPTION:Morning Worship starts at 10:30 am. Also see our service online on You Tube Belleville CFMC.
URL:https://www.bellevillecentennial.ca/upcoming-events/morning-worship-1030-am-123/
LOCATION:Ontario
END:VEVENT
BEGIN:VEVENT
DTSTART;VALUE=DATE:20230627
DTEND;VALUE=DATE:20230628
DTSTAMP:20260422T192132
CREATED:20230410T021024Z
LAST-MODIFIED:20230604T123316Z
UID:2351-1687824000-1687910399@www.bellevillecentennial.ca
SUMMARY:No Youth Group (Summer Break)
DESCRIPTION:Youth Group is taking a summer break. Will return in September. Email Carol at officecfmc@gmail.com for details.
URL:https://www.bellevillecentennial.ca/upcoming-events/youth-group-600-pm-56/
LOCATION:Ontario
END:VEVENT
BEGIN:VEVENT
DTSTART;TZID=America/Toronto:20230628T183000
DTEND;TZID=America/Toronto:20230628T193000
DTSTAMP:20260422T192132
CREATED:20230410T022703Z
LAST-MODIFIED:20230625T170708Z
UID:2359-1687977000-1687980600@www.bellevillecentennial.ca
SUMMARY:Prayer Meeting 6:30 PM @ Centennial (Last one before summer break)
DESCRIPTION:Prayer Meeting will be held  at the church. It starts at 6:30 pm . For those unable to attend please take time to pray in your own homes. Let’s unite for prayer in whatever form possible.
URL:https://www.bellevillecentennial.ca/upcoming-events/prayer-meeting-630-pm-106/
LOCATION:Ontario
END:VEVENT
END:VCALENDAR