BEGIN:VCALENDAR
VERSION:2.0
PRODID:-//Belleville Centennial Free Methodist Church - ECPv6.15.20//NONSGML v1.0//EN
CALSCALE:GREGORIAN
METHOD:PUBLISH
X-WR-CALNAME:Belleville Centennial Free Methodist Church
X-ORIGINAL-URL:https://www.bellevillecentennial.ca
X-WR-CALDESC:Events for Belleville Centennial Free Methodist Church
REFRESH-INTERVAL;VALUE=DURATION:PT1H
X-Robots-Tag:noindex
X-PUBLISHED-TTL:PT1H
BEGIN:VTIMEZONE
TZID:America/Toronto
BEGIN:DAYLIGHT
TZOFFSETFROM:-0500
TZOFFSETTO:-0400
TZNAME:EDT
DTSTART:20220313T070000
END:DAYLIGHT
BEGIN:STANDARD
TZOFFSETFROM:-0400
TZOFFSETTO:-0500
TZNAME:EST
DTSTART:20221106T060000
END:STANDARD
BEGIN:DAYLIGHT
TZOFFSETFROM:-0500
TZOFFSETTO:-0400
TZNAME:EDT
DTSTART:20230312T070000
END:DAYLIGHT
BEGIN:STANDARD
TZOFFSETFROM:-0400
TZOFFSETTO:-0500
TZNAME:EST
DTSTART:20231105T060000
END:STANDARD
BEGIN:DAYLIGHT
TZOFFSETFROM:-0500
TZOFFSETTO:-0400
TZNAME:EDT
DTSTART:20240310T070000
END:DAYLIGHT
BEGIN:STANDARD
TZOFFSETFROM:-0400
TZOFFSETTO:-0500
TZNAME:EST
DTSTART:20241103T060000
END:STANDARD
END:VTIMEZONE
BEGIN:VEVENT
DTSTART;TZID=America/Toronto:20230502T180000
DTEND;TZID=America/Toronto:20230502T193000
DTSTAMP:20260422T210303
CREATED:20230302T194143Z
LAST-MODIFIED:20230302T194143Z
UID:2276-1683050400-1683055800@www.bellevillecentennial.ca
SUMMARY:Youth Group 6:00 PM
DESCRIPTION:Youth Group 6 until 7:30 PM at the church. Ages 8 and up. Email Carol at officecfmc@gmail.com for details.
URL:https://www.bellevillecentennial.ca/upcoming-events/youth-group-600-pm-48/
LOCATION:Ontario
END:VEVENT
BEGIN:VEVENT
DTSTART;TZID=America/Toronto:20230503T183000
DTEND;TZID=America/Toronto:20230503T193000
DTSTAMP:20260422T210303
CREATED:20230306T194557Z
LAST-MODIFIED:20230306T194557Z
UID:2293-1683138600-1683142200@www.bellevillecentennial.ca
SUMMARY:Prayer Meeting 6:30 PM
DESCRIPTION:Prayer Meeting will be meeting at Aldersgate\, 7 Aldersgate Dr. It starts at 6:30 pm in the common room. For those unable to attend please take time to pray in your own homes. Let’s unite for prayer in whatever form possible.
URL:https://www.bellevillecentennial.ca/upcoming-events/prayer-meeting-630-pm-98/
LOCATION:Ontario
END:VEVENT
BEGIN:VEVENT
DTSTART;TZID=America/Toronto:20230507T103000
DTEND;TZID=America/Toronto:20230507T113000
DTSTAMP:20260422T210303
CREATED:20230302T191854Z
LAST-MODIFIED:20230430T190133Z
UID:2264-1683455400-1683459000@www.bellevillecentennial.ca
SUMMARY:Morning Worship 10:30 AM Membership Sunday
DESCRIPTION:Morning Worship starts at 10:30 am. Membership Sunday with communion. Also see our service online on You Tube Belleville CFMC.
URL:https://www.bellevillecentennial.ca/upcoming-events/morning-worship-1030-am-116/
LOCATION:Ontario
END:VEVENT
BEGIN:VEVENT
DTSTART;TZID=America/Toronto:20230508T190000
DTEND;TZID=America/Toronto:20230508T203000
DTSTAMP:20260422T210303
CREATED:20230430T191331Z
LAST-MODIFIED:20230430T191331Z
UID:2382-1683572400-1683577800@www.bellevillecentennial.ca
SUMMARY:Society Meeting 7:00 PM
DESCRIPTION:Society meeting begins at 7pm. It is open to all members and non-members.
URL:https://www.bellevillecentennial.ca/upcoming-events/society-meeting-700-pm/
LOCATION:Ontario
END:VEVENT
BEGIN:VEVENT
DTSTART;TZID=America/Toronto:20230509T180000
DTEND;TZID=America/Toronto:20230509T193000
DTSTAMP:20260422T210303
CREATED:20230302T194353Z
LAST-MODIFIED:20230507T130639Z
UID:2278-1683655200-1683660600@www.bellevillecentennial.ca
SUMMARY:No Youth Group This Week
DESCRIPTION:No Youth Group this week. Will return next week. Email Carol at officecfmc@gmail.com for details.
URL:https://www.bellevillecentennial.ca/upcoming-events/youth-group-600-pm-49/
LOCATION:Ontario
END:VEVENT
BEGIN:VEVENT
DTSTART;TZID=America/Toronto:20230510T183000
DTEND;TZID=America/Toronto:20230510T193000
DTSTAMP:20260422T210303
CREATED:20230306T194834Z
LAST-MODIFIED:20230430T190824Z
UID:2295-1683743400-1683747000@www.bellevillecentennial.ca
SUMMARY:Prayer Meeting 6:30 PM @ Centennial
DESCRIPTION:Prayer Meeting will be held  at the church. It starts at 6:30 pm . For those unable to attend please take time to pray in your own homes. Let’s unite for prayer in whatever form possible.
URL:https://www.bellevillecentennial.ca/upcoming-events/prayer-meeting-630-pm-99/
LOCATION:Ontario
END:VEVENT
BEGIN:VEVENT
DTSTART;TZID=America/Toronto:20230514T103000
DTEND;TZID=America/Toronto:20230514T113000
DTSTAMP:20260422T210303
CREATED:20230302T192257Z
LAST-MODIFIED:20230302T192257Z
UID:2266-1684060200-1684063800@www.bellevillecentennial.ca
SUMMARY:Morning Worship 10:30 AM
DESCRIPTION:Morning Worship starts at 10:30 am. Also see our service online on You Tube Belleville CFMC.
URL:https://www.bellevillecentennial.ca/upcoming-events/morning-worship-1030-am-117/
LOCATION:Ontario
END:VEVENT
BEGIN:VEVENT
DTSTART;TZID=America/Toronto:20230515T183000
DTEND;TZID=America/Toronto:20230515T193000
DTSTAMP:20260422T210303
CREATED:20230302T193109Z
LAST-MODIFIED:20230302T193109Z
UID:2272-1684175400-1684179000@www.bellevillecentennial.ca
SUMMARY:Board Meeting 6:30 PM
DESCRIPTION:Board Meeting at the church 6:30pm
URL:https://www.bellevillecentennial.ca/upcoming-events/board-meeting-630-pm-25/
LOCATION:Ontario
END:VEVENT
BEGIN:VEVENT
DTSTART;TZID=America/Toronto:20230516T180000
DTEND;TZID=America/Toronto:20230516T193000
DTSTAMP:20260422T210303
CREATED:20230302T194613Z
LAST-MODIFIED:20230302T194613Z
UID:2280-1684260000-1684265400@www.bellevillecentennial.ca
SUMMARY:Youth Group 6:00 PM
DESCRIPTION:Youth Group 6 until 7:30 PM at the church. Ages 8 and up. Email Carol at officecfmc@gmail.com for details.
URL:https://www.bellevillecentennial.ca/upcoming-events/youth-group-600-pm-50/
LOCATION:Ontario
END:VEVENT
BEGIN:VEVENT
DTSTART;TZID=America/Toronto:20230517T183000
DTEND;TZID=America/Toronto:20230517T193000
DTSTAMP:20260422T210303
CREATED:20230306T195102Z
LAST-MODIFIED:20230430T192103Z
UID:2297-1684348200-1684351800@www.bellevillecentennial.ca
SUMMARY:Prayer Meeting 6:30 PM @ Centennial
DESCRIPTION:Prayer Meeting will be held  at the church. It starts at 6:30 pm . For those unable to attend please take time to pray in your own homes. Let’s unite for prayer in whatever form possible.
URL:https://www.bellevillecentennial.ca/upcoming-events/prayer-meeting-630-pm-100/
LOCATION:Ontario
END:VEVENT
BEGIN:VEVENT
DTSTART;TZID=America/Toronto:20230521T103000
DTEND;TZID=America/Toronto:20230521T113000
DTSTAMP:20260422T210303
CREATED:20230302T192532Z
LAST-MODIFIED:20230302T192532Z
UID:2268-1684665000-1684668600@www.bellevillecentennial.ca
SUMMARY:Morning Worship 10:30 AM
DESCRIPTION:Morning Worship starts at 10:30 am. Also see our service online on You Tube Belleville CFMC.
URL:https://www.bellevillecentennial.ca/upcoming-events/morning-worship-1030-am-118/
LOCATION:Ontario
END:VEVENT
BEGIN:VEVENT
DTSTART;TZID=America/Toronto:20230523T180000
DTEND;TZID=America/Toronto:20230523T193000
DTSTAMP:20260422T210303
CREATED:20230302T194853Z
LAST-MODIFIED:20230302T194853Z
UID:2282-1684864800-1684870200@www.bellevillecentennial.ca
SUMMARY:Youth Group 6:00 PM
DESCRIPTION:Youth Group 6 until 7:30 PM at the church. Ages 8 and up. Email Carol at officecfmc@gmail.com for details.
URL:https://www.bellevillecentennial.ca/upcoming-events/youth-group-600-pm-51/
LOCATION:Ontario
END:VEVENT
BEGIN:VEVENT
DTSTART;TZID=America/Toronto:20230524T183000
DTEND;TZID=America/Toronto:20230524T193000
DTSTAMP:20260422T210303
CREATED:20230306T195305Z
LAST-MODIFIED:20230430T192607Z
UID:2299-1684953000-1684956600@www.bellevillecentennial.ca
SUMMARY:Prayer Meeting 6:30 PM @ Centennial
DESCRIPTION:Prayer Meeting will be held  at the church. It starts at 6:30 pm . For those unable to attend please take time to pray in your own homes. Let’s unite for prayer in whatever form possible.
URL:https://www.bellevillecentennial.ca/upcoming-events/prayer-meeting-630-pm-101/
LOCATION:Ontario
END:VEVENT
BEGIN:VEVENT
DTSTART;TZID=America/Toronto:20230528T103000
DTEND;TZID=America/Toronto:20230528T113000
DTSTAMP:20260422T210303
CREATED:20230302T192752Z
LAST-MODIFIED:20230302T192752Z
UID:2270-1685269800-1685273400@www.bellevillecentennial.ca
SUMMARY:Morning Worship 10:30 AM
DESCRIPTION:Morning Worship starts at 10:30 am. Also see our service online on You Tube Belleville CFMC.
URL:https://www.bellevillecentennial.ca/upcoming-events/morning-worship-1030-am-119/
LOCATION:Ontario
END:VEVENT
BEGIN:VEVENT
DTSTART;TZID=America/Toronto:20230530T180000
DTEND;TZID=America/Toronto:20230530T193000
DTSTAMP:20260422T210303
CREATED:20230302T195059Z
LAST-MODIFIED:20230302T195059Z
UID:2284-1685469600-1685475000@www.bellevillecentennial.ca
SUMMARY:Youth Group 6:00 PM
DESCRIPTION:Youth Group 6 until 7:30 PM at the church. Ages 8 and up. Email Carol at officecfmc@gmail.com for details.
URL:https://www.bellevillecentennial.ca/upcoming-events/youth-group-600-pm-52/
LOCATION:Ontario
END:VEVENT
BEGIN:VEVENT
DTSTART;TZID=America/Toronto:20230531T183000
DTEND;TZID=America/Toronto:20230531T193000
DTSTAMP:20260422T210303
CREATED:20230306T195458Z
LAST-MODIFIED:20230430T192858Z
UID:2301-1685557800-1685561400@www.bellevillecentennial.ca
SUMMARY:Prayer Meeting 6:30 PM @ Centennial
DESCRIPTION:Prayer Meeting will be held  at the church. It starts at 6:30 pm . For those unable to attend please take time to pray in your own homes. Let’s unite for prayer in whatever form possible.
URL:https://www.bellevillecentennial.ca/upcoming-events/prayer-meeting-630-pm-102/
LOCATION:Ontario
END:VEVENT
END:VCALENDAR