BEGIN:VCALENDAR
VERSION:2.0
PRODID:-//Belleville Centennial Free Methodist Church - ECPv6.15.20//NONSGML v1.0//EN
CALSCALE:GREGORIAN
METHOD:PUBLISH
X-WR-CALNAME:Belleville Centennial Free Methodist Church
X-ORIGINAL-URL:https://www.bellevillecentennial.ca
X-WR-CALDESC:Events for Belleville Centennial Free Methodist Church
REFRESH-INTERVAL;VALUE=DURATION:PT1H
X-Robots-Tag:noindex
X-PUBLISHED-TTL:PT1H
BEGIN:VTIMEZONE
TZID:America/Toronto
BEGIN:DAYLIGHT
TZOFFSETFROM:-0500
TZOFFSETTO:-0400
TZNAME:EDT
DTSTART:20220313T070000
END:DAYLIGHT
BEGIN:STANDARD
TZOFFSETFROM:-0400
TZOFFSETTO:-0500
TZNAME:EST
DTSTART:20221106T060000
END:STANDARD
BEGIN:DAYLIGHT
TZOFFSETFROM:-0500
TZOFFSETTO:-0400
TZNAME:EDT
DTSTART:20230312T070000
END:DAYLIGHT
BEGIN:STANDARD
TZOFFSETFROM:-0400
TZOFFSETTO:-0500
TZNAME:EST
DTSTART:20231105T060000
END:STANDARD
BEGIN:DAYLIGHT
TZOFFSETFROM:-0500
TZOFFSETTO:-0400
TZNAME:EDT
DTSTART:20240310T070000
END:DAYLIGHT
BEGIN:STANDARD
TZOFFSETFROM:-0400
TZOFFSETTO:-0500
TZNAME:EST
DTSTART:20241103T060000
END:STANDARD
END:VTIMEZONE
BEGIN:VEVENT
DTSTART;TZID=America/Toronto:20230301T120000
DTEND;TZID=America/Toronto:20230301T140000
DTSTAMP:20260423T002743
CREATED:20230205T163142Z
LAST-MODIFIED:20230219T235835Z
UID:2237-1677672000-1677679200@www.bellevillecentennial.ca
SUMMARY:Prime Time 12:00 PM
DESCRIPTION:Prime Timers starts at 12:00 pm at the church. Pot Luck something green. Tineke from Belleville Thrift Store will be sharing her vision for helping Christian Education in Belleville and Katrina will be leading us in favourite choruses.
URL:https://www.bellevillecentennial.ca/upcoming-events/prime-time-1200-pm-4/
LOCATION:Ontario
END:VEVENT
BEGIN:VEVENT
DTSTART;TZID=America/Toronto:20230301T183000
DTEND;TZID=America/Toronto:20230301T193000
DTSTAMP:20260423T002743
CREATED:20230108T181342Z
LAST-MODIFIED:20230108T181342Z
UID:2163-1677695400-1677699000@www.bellevillecentennial.ca
SUMMARY:Prayer Meeting 6:30 PM
DESCRIPTION:Prayer Meeting will be meeting at Aldersgate\, 7 Aldersgate Dr. It starts at 6:30 pm in the common room. For those unable to attend please take time to pray in your own homes. Let’s unite for prayer in whatever form possible.
URL:https://www.bellevillecentennial.ca/upcoming-events/prayer-meeting-630-pm-89/
LOCATION:Ontario
END:VEVENT
BEGIN:VEVENT
DTSTART;TZID=America/Toronto:20230305T103000
DTEND;TZID=America/Toronto:20230305T113000
DTSTAMP:20260423T002743
CREATED:20230103T174405Z
LAST-MODIFIED:20230103T174405Z
UID:2111-1678012200-1678015800@www.bellevillecentennial.ca
SUMMARY:Morning Worship 10:30 AM
DESCRIPTION:Morning Worship starts at 10:30 am. Also see our service online on You Tube Belleville CFMC.
URL:https://www.bellevillecentennial.ca/upcoming-events/morning-worship-1030-am-107/
LOCATION:Ontario
END:VEVENT
BEGIN:VEVENT
DTSTART;TZID=America/Toronto:20230307T180000
DTEND;TZID=America/Toronto:20230307T193000
DTSTAMP:20260423T002743
CREATED:20230104T185945Z
LAST-MODIFIED:20230104T185945Z
UID:2132-1678212000-1678217400@www.bellevillecentennial.ca
SUMMARY:Youth Group 6:00 PM
DESCRIPTION:Youth Group 6 until 7:30 PM at the church. Ages 8 and up. Email Carol at officecfmc@gmail.com for details.
URL:https://www.bellevillecentennial.ca/upcoming-events/youth-group-600-pm-40/
LOCATION:Ontario
END:VEVENT
BEGIN:VEVENT
DTSTART;TZID=America/Toronto:20230308T183000
DTEND;TZID=America/Toronto:20230308T193000
DTSTAMP:20260423T002743
CREATED:20230108T181621Z
LAST-MODIFIED:20230108T181621Z
UID:2165-1678300200-1678303800@www.bellevillecentennial.ca
SUMMARY:Prayer Meeting 6:30 PM
DESCRIPTION:Prayer Meeting will be meeting at Aldersgate\, 7 Aldersgate Dr. It starts at 6:30 pm in the common room. For those unable to attend please take time to pray in your own homes. Let’s unite for prayer in whatever form possible.
URL:https://www.bellevillecentennial.ca/upcoming-events/prayer-meeting-630-pm-90/
LOCATION:Ontario
END:VEVENT
BEGIN:VEVENT
DTSTART;TZID=America/Toronto:20230312T103000
DTEND;TZID=America/Toronto:20230312T113000
DTSTAMP:20260423T002743
CREATED:20230103T174610Z
LAST-MODIFIED:20230103T174610Z
UID:2113-1678617000-1678620600@www.bellevillecentennial.ca
SUMMARY:Morning Worship 10:30 AM
DESCRIPTION:Morning Worship starts at 10:30 am. Also see our service online on You Tube Belleville CFMC.
URL:https://www.bellevillecentennial.ca/upcoming-events/morning-worship-1030-am-108/
LOCATION:Ontario
END:VEVENT
BEGIN:VEVENT
DTSTART;TZID=America/Toronto:20230314T180000
DTEND;TZID=America/Toronto:20230314T193000
DTSTAMP:20260423T002743
CREATED:20230104T190229Z
LAST-MODIFIED:20230104T190229Z
UID:2134-1678816800-1678822200@www.bellevillecentennial.ca
SUMMARY:Youth Group 6:00 PM
DESCRIPTION:Youth Group 6 until 7:30 PM at the church. Ages 8 and up. Email Carol at officecfmc@gmail.com for details.
URL:https://www.bellevillecentennial.ca/upcoming-events/youth-group-600-pm-41/
LOCATION:Ontario
END:VEVENT
BEGIN:VEVENT
DTSTART;TZID=America/Toronto:20230315T183000
DTEND;TZID=America/Toronto:20230315T193000
DTSTAMP:20260423T002743
CREATED:20230108T181809Z
LAST-MODIFIED:20230108T181809Z
UID:2167-1678905000-1678908600@www.bellevillecentennial.ca
SUMMARY:Prayer Meeting 6:30 PM
DESCRIPTION:Prayer Meeting will be meeting at Aldersgate\, 7 Aldersgate Dr. It starts at 6:30 pm in the common room. For those unable to attend please take time to pray in your own homes. Let’s unite for prayer in whatever form possible.
URL:https://www.bellevillecentennial.ca/upcoming-events/prayer-meeting-630-pm-91/
LOCATION:Ontario
END:VEVENT
BEGIN:VEVENT
DTSTART;TZID=America/Toronto:20230319T103000
DTEND;TZID=America/Toronto:20230319T113000
DTSTAMP:20260423T002743
CREATED:20230103T174741Z
LAST-MODIFIED:20230103T174741Z
UID:2115-1679221800-1679225400@www.bellevillecentennial.ca
SUMMARY:Morning Worship 10:30 AM
DESCRIPTION:Morning Worship starts at 10:30 am. Also see our service online on You Tube Belleville CFMC.
URL:https://www.bellevillecentennial.ca/upcoming-events/morning-worship-1030-am-109/
LOCATION:Ontario
END:VEVENT
BEGIN:VEVENT
DTSTART;TZID=America/Toronto:20230320T183000
DTEND;TZID=America/Toronto:20230320T193000
DTSTAMP:20260423T002743
CREATED:20230104T184648Z
LAST-MODIFIED:20230104T184648Z
UID:2121-1679337000-1679340600@www.bellevillecentennial.ca
SUMMARY:Board Meeting 6:30 PM
DESCRIPTION:Board Meeting at the church 6:30pm
URL:https://www.bellevillecentennial.ca/upcoming-events/board-meeting-630-pm-23/
LOCATION:Ontario
END:VEVENT
BEGIN:VEVENT
DTSTART;TZID=America/Toronto:20230321T180000
DTEND;TZID=America/Toronto:20230321T193000
DTSTAMP:20260423T002743
CREATED:20230104T190755Z
LAST-MODIFIED:20230104T190755Z
UID:2136-1679421600-1679427000@www.bellevillecentennial.ca
SUMMARY:Youth Group 6:00 PM
DESCRIPTION:Youth Group 6 until 7:30 PM at the church. Ages 8 and up. Email Carol at officecfmc@gmail.com for details.
URL:https://www.bellevillecentennial.ca/upcoming-events/youth-group-600-pm-42/
LOCATION:Ontario
END:VEVENT
BEGIN:VEVENT
DTSTART;TZID=America/Toronto:20230322T183000
DTEND;TZID=America/Toronto:20230322T193000
DTSTAMP:20260423T002743
CREATED:20230108T182000Z
LAST-MODIFIED:20230108T182000Z
UID:2170-1679509800-1679513400@www.bellevillecentennial.ca
SUMMARY:Prayer Meeting 6:30 PM
DESCRIPTION:Prayer Meeting will be meeting at Aldersgate\, 7 Aldersgate Dr. It starts at 6:30 pm in the common room. For those unable to attend please take time to pray in your own homes. Let’s unite for prayer in whatever form possible.
URL:https://www.bellevillecentennial.ca/upcoming-events/prayer-meeting-630-pm-92/
LOCATION:Ontario
END:VEVENT
BEGIN:VEVENT
DTSTART;TZID=America/Toronto:20230326T103000
DTEND;TZID=America/Toronto:20230326T113000
DTSTAMP:20260423T002743
CREATED:20230103T174949Z
LAST-MODIFIED:20230103T174949Z
UID:2117-1679826600-1679830200@www.bellevillecentennial.ca
SUMMARY:Morning Worship 10:30 AM
DESCRIPTION:Morning Worship starts at 10:30 am. Also see our service online on You Tube Belleville CFMC.
URL:https://www.bellevillecentennial.ca/upcoming-events/morning-worship-1030-am-110/
LOCATION:Ontario
END:VEVENT
BEGIN:VEVENT
DTSTART;TZID=America/Toronto:20230328T180000
DTEND;TZID=America/Toronto:20230328T193000
DTSTAMP:20260423T002743
CREATED:20230104T191021Z
LAST-MODIFIED:20230104T191021Z
UID:2138-1680026400-1680031800@www.bellevillecentennial.ca
SUMMARY:Youth Group 6:00 PM
DESCRIPTION:Youth Group 6 until 7:30 PM at the church. Ages 8 and up. Email Carol at officecfmc@gmail.com for details.
URL:https://www.bellevillecentennial.ca/upcoming-events/youth-group-600-pm-43/
LOCATION:Ontario
END:VEVENT
BEGIN:VEVENT
DTSTART;TZID=America/Toronto:20230329T183000
DTEND;TZID=America/Toronto:20230329T193000
DTSTAMP:20260423T002743
CREATED:20230108T182138Z
LAST-MODIFIED:20230108T182138Z
UID:2172-1680114600-1680118200@www.bellevillecentennial.ca
SUMMARY:Prayer Meeting 6:30 PM
DESCRIPTION:Prayer Meeting will be meeting at Aldersgate\, 7 Aldersgate Dr. It starts at 6:30 pm in the common room. For those unable to attend please take time to pray in your own homes. Let’s unite for prayer in whatever form possible.
URL:https://www.bellevillecentennial.ca/upcoming-events/prayer-meeting-630-pm-93/
LOCATION:Ontario
END:VEVENT
END:VCALENDAR