BEGIN:VCALENDAR
VERSION:2.0
PRODID:-//Belleville Centennial Free Methodist Church - ECPv6.15.20//NONSGML v1.0//EN
CALSCALE:GREGORIAN
METHOD:PUBLISH
X-WR-CALNAME:Belleville Centennial Free Methodist Church
X-ORIGINAL-URL:https://www.bellevillecentennial.ca
X-WR-CALDESC:Events for Belleville Centennial Free Methodist Church
REFRESH-INTERVAL;VALUE=DURATION:PT1H
X-Robots-Tag:noindex
X-PUBLISHED-TTL:PT1H
BEGIN:VTIMEZONE
TZID:America/Toronto
BEGIN:DAYLIGHT
TZOFFSETFROM:-0500
TZOFFSETTO:-0400
TZNAME:EDT
DTSTART:20220313T070000
END:DAYLIGHT
BEGIN:STANDARD
TZOFFSETFROM:-0400
TZOFFSETTO:-0500
TZNAME:EST
DTSTART:20221106T060000
END:STANDARD
BEGIN:DAYLIGHT
TZOFFSETFROM:-0500
TZOFFSETTO:-0400
TZNAME:EDT
DTSTART:20230312T070000
END:DAYLIGHT
BEGIN:STANDARD
TZOFFSETFROM:-0400
TZOFFSETTO:-0500
TZNAME:EST
DTSTART:20231105T060000
END:STANDARD
BEGIN:DAYLIGHT
TZOFFSETFROM:-0500
TZOFFSETTO:-0400
TZNAME:EDT
DTSTART:20240310T070000
END:DAYLIGHT
BEGIN:STANDARD
TZOFFSETFROM:-0400
TZOFFSETTO:-0500
TZNAME:EST
DTSTART:20241103T060000
END:STANDARD
END:VTIMEZONE
BEGIN:VEVENT
DTSTART;TZID=America/Toronto:20230201T120000
DTEND;TZID=America/Toronto:20230201T150000
DTSTAMP:20260423T022104
CREATED:20230108T175755Z
LAST-MODIFIED:20230123T165902Z
UID:2153-1675252800-1675263600@www.bellevillecentennial.ca
SUMMARY:Prime Time 12:00 PM
DESCRIPTION:Prime Timers starts at 12:00 pm. at the church. Bring a homemade sandwich while enjoying a homemade bowl of soup. It’s movie time with popcorn. God’s Not Dead OR War Room?
URL:https://www.bellevillecentennial.ca/upcoming-events/prime-time-1200-pm-2/
LOCATION:Ontario
END:VEVENT
BEGIN:VEVENT
DTSTART;TZID=America/Toronto:20230201T183000
DTEND;TZID=America/Toronto:20230201T193000
DTSTAMP:20260423T022104
CREATED:20230108T180053Z
LAST-MODIFIED:20230108T180053Z
UID:2155-1675276200-1675279800@www.bellevillecentennial.ca
SUMMARY:Prayer Meeting 6:30 PM
DESCRIPTION:Prayer Meeting will be meeting at Aldersgate\, 7 Aldersgate Dr. It starts at 6:30 pm in the common room. For those unable to attend please take time to pray in your own homes. Let’s unite for prayer in whatever form possible.
URL:https://www.bellevillecentennial.ca/upcoming-events/prayer-meeting-630-pm-85/
LOCATION:Ontario
END:VEVENT
BEGIN:VEVENT
DTSTART;TZID=America/Toronto:20230205T103000
DTEND;TZID=America/Toronto:20230205T113000
DTSTAMP:20260423T022104
CREATED:20230103T173328Z
LAST-MODIFIED:20230103T173328Z
UID:2103-1675593000-1675596600@www.bellevillecentennial.ca
SUMMARY:Morning Worship 10:30 AM
DESCRIPTION:Morning Worship starts at 10:30 am. Also see our service online on You Tube Belleville CFMC.
URL:https://www.bellevillecentennial.ca/upcoming-events/morning-worship-1030-am-103/
LOCATION:Ontario
END:VEVENT
BEGIN:VEVENT
DTSTART;TZID=America/Toronto:20230207T180000
DTEND;TZID=America/Toronto:20230207T193000
DTSTAMP:20260423T022104
CREATED:20230104T185032Z
LAST-MODIFIED:20230104T185032Z
UID:2123-1675792800-1675798200@www.bellevillecentennial.ca
SUMMARY:Youth Group 6:00 PM
DESCRIPTION:Youth Group 6 until 7:30 PM at the church. Ages 8 and up. Email Carol at officecfmc@gmail.com for details.
URL:https://www.bellevillecentennial.ca/upcoming-events/youth-group-600-pm-36/
LOCATION:Ontario
END:VEVENT
BEGIN:VEVENT
DTSTART;TZID=America/Toronto:20230208T183000
DTEND;TZID=America/Toronto:20230208T193000
DTSTAMP:20260423T022104
CREATED:20230108T180443Z
LAST-MODIFIED:20230108T180443Z
UID:2157-1675881000-1675884600@www.bellevillecentennial.ca
SUMMARY:Prayer Meeting 6:30 PM
DESCRIPTION:Prayer Meeting will be meeting at Aldersgate\, 7 Aldersgate Dr. It starts at 6:30 pm in the common room. For those unable to attend please take time to pray in your own homes. Let’s unite for prayer in whatever form possible.
URL:https://www.bellevillecentennial.ca/upcoming-events/prayer-meeting-630-pm-86/
LOCATION:Ontario
END:VEVENT
BEGIN:VEVENT
DTSTART;TZID=America/Toronto:20230212T103000
DTEND;TZID=America/Toronto:20230212T113000
DTSTAMP:20260423T022104
CREATED:20230103T173728Z
LAST-MODIFIED:20230103T173728Z
UID:2105-1676197800-1676201400@www.bellevillecentennial.ca
SUMMARY:Morning Worship 10:30 AM
DESCRIPTION:Morning Worship starts at 10:30 am. Also see our service online on You Tube Belleville CFMC.
URL:https://www.bellevillecentennial.ca/upcoming-events/morning-worship-1030-am-104/
LOCATION:Ontario
END:VEVENT
BEGIN:VEVENT
DTSTART;TZID=America/Toronto:20230214T180000
DTEND;TZID=America/Toronto:20230214T193000
DTSTAMP:20260423T022104
CREATED:20230104T185336Z
LAST-MODIFIED:20230104T185336Z
UID:2125-1676397600-1676403000@www.bellevillecentennial.ca
SUMMARY:Youth Group 6:00 PM
DESCRIPTION:Youth Group 6 until 7:30 PM at the church. Ages 8 and up. Email Carol at officecfmc@gmail.com for details.
URL:https://www.bellevillecentennial.ca/upcoming-events/youth-group-600-pm-37/
LOCATION:Ontario
END:VEVENT
BEGIN:VEVENT
DTSTART;TZID=America/Toronto:20230215T183000
DTEND;TZID=America/Toronto:20230215T193000
DTSTAMP:20260423T022104
CREATED:20230108T180820Z
LAST-MODIFIED:20230108T180820Z
UID:2159-1676485800-1676489400@www.bellevillecentennial.ca
SUMMARY:Prayer Meeting 6:30 PM
DESCRIPTION:Prayer Meeting will be meeting at Aldersgate\, 7 Aldersgate Dr. It starts at 6:30 pm in the common room. For those unable to attend please take time to pray in your own homes. Let’s unite for prayer in whatever form possible.
URL:https://www.bellevillecentennial.ca/upcoming-events/prayer-meeting-630-pm-87/
LOCATION:Ontario
END:VEVENT
BEGIN:VEVENT
DTSTART;TZID=America/Toronto:20230219T103000
DTEND;TZID=America/Toronto:20230219T113000
DTSTAMP:20260423T022104
CREATED:20230103T173919Z
LAST-MODIFIED:20230103T173919Z
UID:2107-1676802600-1676806200@www.bellevillecentennial.ca
SUMMARY:Morning Worship 10:30 AM
DESCRIPTION:Morning Worship starts at 10:30 am. Also see our service online on You Tube Belleville CFMC.
URL:https://www.bellevillecentennial.ca/upcoming-events/morning-worship-1030-am-105/
LOCATION:Ontario
END:VEVENT
BEGIN:VEVENT
DTSTART;TZID=America/Toronto:20230220T183000
DTEND;TZID=America/Toronto:20230220T193000
DTSTAMP:20260423T022104
CREATED:20230104T184310Z
LAST-MODIFIED:20230104T184310Z
UID:2119-1676917800-1676921400@www.bellevillecentennial.ca
SUMMARY:Board Meeting 6:30 PM
DESCRIPTION:Board Meeting at the church 6:30pm
URL:https://www.bellevillecentennial.ca/upcoming-events/board-meeting-630-pm-22/
LOCATION:Ontario
END:VEVENT
BEGIN:VEVENT
DTSTART;TZID=America/Toronto:20230221T180000
DTEND;TZID=America/Toronto:20230221T193000
DTSTAMP:20260423T022104
CREATED:20230104T185527Z
LAST-MODIFIED:20230104T185527Z
UID:2127-1677002400-1677007800@www.bellevillecentennial.ca
SUMMARY:Youth Group 6:00 PM
DESCRIPTION:Youth Group 6 until 7:30 PM at the church. Ages 8 and up. Email Carol at officecfmc@gmail.com for details.
URL:https://www.bellevillecentennial.ca/upcoming-events/youth-group-600-pm-38/
LOCATION:Ontario
END:VEVENT
BEGIN:VEVENT
DTSTART;TZID=America/Toronto:20230222T183000
DTEND;TZID=America/Toronto:20230222T193000
DTSTAMP:20260423T022104
CREATED:20230108T181121Z
LAST-MODIFIED:20230108T181121Z
UID:2161-1677090600-1677094200@www.bellevillecentennial.ca
SUMMARY:Prayer Meeting 6:30 PM
DESCRIPTION:Prayer Meeting will be meeting at Aldersgate\, 7 Aldersgate Dr. It starts at 6:30 pm in the common room. For those unable to attend please take time to pray in your own homes. Let’s unite for prayer in whatever form possible.
URL:https://www.bellevillecentennial.ca/upcoming-events/prayer-meeting-630-pm-88/
LOCATION:Ontario
END:VEVENT
BEGIN:VEVENT
DTSTART;TZID=America/Toronto:20230226T103000
DTEND;TZID=America/Toronto:20230226T113000
DTSTAMP:20260423T022104
CREATED:20230103T174149Z
LAST-MODIFIED:20230219T235137Z
UID:2109-1677407400-1677411000@www.bellevillecentennial.ca
SUMMARY:Morning Worship 10:30 AM Guest Speaker Rev. Adam Kline
DESCRIPTION:Morning Worship starts at 10:30 am. Rev. Adam Kline will be speaking re: Intercultural Engagement Team\, including his recent trip to Ghana.  Also see our service online on You Tube Belleville CFMC.
URL:https://www.bellevillecentennial.ca/upcoming-events/morning-worship-1030-am-106/
LOCATION:Ontario
END:VEVENT
BEGIN:VEVENT
DTSTART;TZID=America/Toronto:20230228T180000
DTEND;TZID=America/Toronto:20230228T193000
DTSTAMP:20260423T022104
CREATED:20230104T185710Z
LAST-MODIFIED:20230104T185710Z
UID:2130-1677607200-1677612600@www.bellevillecentennial.ca
SUMMARY:Youth Group 6:00 PM
DESCRIPTION:Youth Group 6 until 7:30 PM at the church. Ages 8 and up. Email Carol at officecfmc@gmail.com for details.
URL:https://www.bellevillecentennial.ca/upcoming-events/youth-group-600-pm-39/
LOCATION:Ontario
END:VEVENT
END:VCALENDAR