BEGIN:VCALENDAR
VERSION:2.0
PRODID:-//Belleville Centennial Free Methodist Church - ECPv6.15.20//NONSGML v1.0//EN
CALSCALE:GREGORIAN
METHOD:PUBLISH
X-WR-CALNAME:Belleville Centennial Free Methodist Church
X-ORIGINAL-URL:https://www.bellevillecentennial.ca
X-WR-CALDESC:Events for Belleville Centennial Free Methodist Church
REFRESH-INTERVAL;VALUE=DURATION:PT1H
X-Robots-Tag:noindex
X-PUBLISHED-TTL:PT1H
BEGIN:VTIMEZONE
TZID:America/Toronto
BEGIN:DAYLIGHT
TZOFFSETFROM:-0500
TZOFFSETTO:-0400
TZNAME:EDT
DTSTART:20210314T070000
END:DAYLIGHT
BEGIN:STANDARD
TZOFFSETFROM:-0400
TZOFFSETTO:-0500
TZNAME:EST
DTSTART:20211107T060000
END:STANDARD
BEGIN:DAYLIGHT
TZOFFSETFROM:-0500
TZOFFSETTO:-0400
TZNAME:EDT
DTSTART:20220313T070000
END:DAYLIGHT
BEGIN:STANDARD
TZOFFSETFROM:-0400
TZOFFSETTO:-0500
TZNAME:EST
DTSTART:20221106T060000
END:STANDARD
BEGIN:DAYLIGHT
TZOFFSETFROM:-0500
TZOFFSETTO:-0400
TZNAME:EDT
DTSTART:20230312T070000
END:DAYLIGHT
BEGIN:STANDARD
TZOFFSETFROM:-0400
TZOFFSETTO:-0500
TZNAME:EST
DTSTART:20231105T060000
END:STANDARD
END:VTIMEZONE
BEGIN:VEVENT
DTSTART;TZID=America/Toronto:20221204T103000
DTEND;TZID=America/Toronto:20221204T113000
DTSTAMP:20260423T053855
CREATED:20221114T021949Z
LAST-MODIFIED:20221114T021949Z
UID:2009-1670149800-1670153400@www.bellevillecentennial.ca
SUMMARY:Morning Worship 10:30 AM Second Sunday Of Advent
DESCRIPTION:Morning Worship starts at 10:30 am. Second Sunday of Advent. Also see our service online on You Tube Belleville CFMC.
URL:https://www.bellevillecentennial.ca/upcoming-events/morning-worship-1030-am-second-sunday-of-advent-2/
LOCATION:Ontario
END:VEVENT
BEGIN:VEVENT
DTSTART;TZID=America/Toronto:20221206T180000
DTEND;TZID=America/Toronto:20221206T193000
DTSTAMP:20260423T053855
CREATED:20221116T170204Z
LAST-MODIFIED:20221116T170204Z
UID:2025-1670349600-1670355000@www.bellevillecentennial.ca
SUMMARY:Youth Group 6:00 PM
DESCRIPTION:Youth Group 6 until 7:30 PM at the church. Ages 8 and up. Email Carol at officecfmc@gmail.com for details.
URL:https://www.bellevillecentennial.ca/upcoming-events/youth-group-600-pm-31/
LOCATION:Ontario
END:VEVENT
BEGIN:VEVENT
DTSTART;TZID=America/Toronto:20221207T120000
DTEND;TZID=America/Toronto:20221207T140000
DTSTAMP:20260423T053855
CREATED:20221114T021408Z
LAST-MODIFIED:20221114T021408Z
UID:2007-1670414400-1670421600@www.bellevillecentennial.ca
SUMMARY:Prime Timers 12:00 PM Northway Restaurant
DESCRIPTION:Prime Time (50 plus) will be meeting at the Northway Restaurant at 12:00 pm for Christmas lunch. Please sign the sheet on the bulletin board or contact the church to have your name added to the list. Please bring a baby gift donation for a boy or girl to give to the Pregnancy Centre.
URL:https://www.bellevillecentennial.ca/upcoming-events/prime-timers-1200-pm-northway-restaurant/
LOCATION:Ontario
END:VEVENT
BEGIN:VEVENT
DTSTART;TZID=America/Toronto:20221207T183000
DTEND;TZID=America/Toronto:20221207T193000
DTSTAMP:20260423T053855
CREATED:20221114T023533Z
LAST-MODIFIED:20221114T023533Z
UID:2019-1670437800-1670441400@www.bellevillecentennial.ca
SUMMARY:Prayer Meeting 6:30 PM
DESCRIPTION:Prayer Meeting will be meeting at Aldersgate\, 7 Aldersgate Dr. It starts at 6:30 pm in the common room. For those unable to attend please take time to pray in your own homes. Let’s unite for prayer in whatever form possible.
URL:https://www.bellevillecentennial.ca/upcoming-events/prayer-meeting-630-pm-79/
LOCATION:Ontario
END:VEVENT
BEGIN:VEVENT
DTSTART;TZID=America/Toronto:20221211T103000
DTEND;TZID=America/Toronto:20221211T113000
DTSTAMP:20260423T053855
CREATED:20221114T022249Z
LAST-MODIFIED:20221114T022249Z
UID:2011-1670754600-1670758200@www.bellevillecentennial.ca
SUMMARY:Morning Worship 10:30 AM Third Sunday Of Advent
DESCRIPTION:Morning Worship starts at 10:30 am. Third Sunday of Advent. Also see our service online on You Tube Belleville CFMC.
URL:https://www.bellevillecentennial.ca/upcoming-events/morning-worship-1030-am-third-sunday-of-advent-2/
LOCATION:Ontario
END:VEVENT
BEGIN:VEVENT
DTSTART;TZID=America/Toronto:20221213T180000
DTEND;TZID=America/Toronto:20221213T193000
DTSTAMP:20260423T053855
CREATED:20221116T171233Z
LAST-MODIFIED:20221116T171233Z
UID:2027-1670954400-1670959800@www.bellevillecentennial.ca
SUMMARY:Youth Group 6:00 PM (last one before Christmas Break)
DESCRIPTION:Youth Group 6 until 7:30 PM at the church. Ages 8 and up. Email Carol at officecfmc@gmail.com for details. This will be the last time until after the Christmas break. Youth Group returns on JA 10th.
URL:https://www.bellevillecentennial.ca/upcoming-events/youth-group-600-pm-last-one-before-christmas-break/
LOCATION:Ontario
END:VEVENT
BEGIN:VEVENT
DTSTART;TZID=America/Toronto:20221214T183000
DTEND;TZID=America/Toronto:20221214T193000
DTSTAMP:20260423T053855
CREATED:20221114T023735Z
LAST-MODIFIED:20221114T023735Z
UID:2021-1671042600-1671046200@www.bellevillecentennial.ca
SUMMARY:Prayer Meeting 6:30 PM
DESCRIPTION:Prayer Meeting will be meeting at Aldersgate\, 7 Aldersgate Dr. It starts at 6:30 pm in the common room. For those unable to attend please take time to pray in your own homes. Let’s unite for prayer in whatever form possible.
URL:https://www.bellevillecentennial.ca/upcoming-events/prayer-meeting-630-pm-80/
LOCATION:Ontario
END:VEVENT
BEGIN:VEVENT
DTSTART;TZID=America/Toronto:20221218T103000
DTEND;TZID=America/Toronto:20221218T113000
DTSTAMP:20260423T053855
CREATED:20221114T022614Z
LAST-MODIFIED:20221114T022614Z
UID:2013-1671359400-1671363000@www.bellevillecentennial.ca
SUMMARY:Morning Worship 10:30 AM Fourth Sunday Of Advent
DESCRIPTION:Morning Worship starts at 10:30 am. Fourth Sunday of Advent. Also see our service online on You Tube Belleville CFMC.
URL:https://www.bellevillecentennial.ca/upcoming-events/morning-worship-1030-am-fourth-sunday-of-advent-2/
LOCATION:Ontario
END:VEVENT
BEGIN:VEVENT
DTSTART;TZID=America/Toronto:20221219T183000
DTEND;TZID=America/Toronto:20221219T193000
DTSTAMP:20260423T053855
CREATED:20221127T125527Z
LAST-MODIFIED:20221127T125527Z
UID:2065-1671474600-1671478200@www.bellevillecentennial.ca
SUMMARY:Board Meeting 6:30 PM
DESCRIPTION:Board Meeting at the church 6:30pm
URL:https://www.bellevillecentennial.ca/upcoming-events/board-meeting-630-pm-20/
LOCATION:Ontario
END:VEVENT
BEGIN:VEVENT
DTSTART;VALUE=DATE:20221220
DTEND;VALUE=DATE:20221221
DTSTAMP:20260423T053855
CREATED:20221116T171719Z
LAST-MODIFIED:20221116T171719Z
UID:2029-1671494400-1671580799@www.bellevillecentennial.ca
SUMMARY:No Youth Group (Christmas Break)
DESCRIPTION:There will be no Youth Group this week. We are taking a break for Christmas. We will return on JA 10th from 6 until 7:30 PM at the church. Ages 8 and up. Email Carol at officecfmc@gmail.com for details.
URL:https://www.bellevillecentennial.ca/upcoming-events/no-youth-group-christmas-break/
LOCATION:Ontario
END:VEVENT
BEGIN:VEVENT
DTSTART;TZID=America/Toronto:20221221T183000
DTEND;TZID=America/Toronto:20221221T193000
DTSTAMP:20260423T053855
CREATED:20221114T023918Z
LAST-MODIFIED:20221114T023918Z
UID:2023-1671647400-1671651000@www.bellevillecentennial.ca
SUMMARY:Prayer Meeting 6:30 PM
DESCRIPTION:Prayer Meeting will be meeting at Aldersgate\, 7 Aldersgate Dr. It starts at 6:30 pm in the common room. For those unable to attend please take time to pray in your own homes. Let’s unite for prayer in whatever form possible.
URL:https://www.bellevillecentennial.ca/upcoming-events/prayer-meeting-630-pm-81/
LOCATION:Ontario
END:VEVENT
BEGIN:VEVENT
DTSTART;VALUE=DATE:20221224
DTEND;VALUE=DATE:20221225
DTSTAMP:20260423T053855
CREATED:20221114T023127Z
LAST-MODIFIED:20221114T023127Z
UID:2017-1671840000-1671926399@www.bellevillecentennial.ca
SUMMARY:We Will Not Be Having A Christmas Eve. Service
DESCRIPTION:We will not be having a Christmas Eve. service.
URL:https://www.bellevillecentennial.ca/upcoming-events/we-will-not-be-having-a-christmas-eve-service/
LOCATION:Ontario
END:VEVENT
BEGIN:VEVENT
DTSTART;TZID=America/Toronto:20221225T103000
DTEND;TZID=America/Toronto:20221225T113000
DTSTAMP:20260423T053855
CREATED:20221114T022837Z
LAST-MODIFIED:20221114T022837Z
UID:2015-1671964200-1671967800@www.bellevillecentennial.ca
SUMMARY:Morning Worship 10:30 AM Christmas Service
DESCRIPTION:Morning Worship starts at 10:30 am. Christmas service. Also see our service online on You Tube Belleville CFMC.
URL:https://www.bellevillecentennial.ca/upcoming-events/morning-worship-1030-am-christmas-service/
LOCATION:Ontario
END:VEVENT
BEGIN:VEVENT
DTSTART;VALUE=DATE:20221227
DTEND;VALUE=DATE:20221228
DTSTAMP:20260423T053855
CREATED:20221116T172157Z
LAST-MODIFIED:20221116T172157Z
UID:2031-1672099200-1672185599@www.bellevillecentennial.ca
SUMMARY:No Youth Group (Christmas Break)
DESCRIPTION:There will be no Youth Group this week. We are taking a break for Christmas. We will return on JA 10th from 6 until 7:30 PM at the church. Ages 8 and up. Email Carol at officecfmc@gmail.com for details.
URL:https://www.bellevillecentennial.ca/upcoming-events/no-youth-group-christmas-break-2/
LOCATION:Ontario
END:VEVENT
BEGIN:VEVENT
DTSTART;VALUE=DATE:20221228
DTEND;VALUE=DATE:20221229
DTSTAMP:20260423T053855
CREATED:20221127T124942Z
LAST-MODIFIED:20221127T124942Z
UID:2063-1672185600-1672271999@www.bellevillecentennial.ca
SUMMARY:No Prayer Meeting (Christmas Break)
DESCRIPTION:There will be no Prayer Meeting this week. We are taking a break for Christmas. Will return on JA 11. Please continue to be in prayer.
URL:https://www.bellevillecentennial.ca/upcoming-events/no-prayer-meeting-christmas-break/
LOCATION:Ontario
END:VEVENT
END:VCALENDAR