BEGIN:VCALENDAR
VERSION:2.0
PRODID:-//Belleville Centennial Free Methodist Church - ECPv6.15.20//NONSGML v1.0//EN
CALSCALE:GREGORIAN
METHOD:PUBLISH
X-WR-CALNAME:Belleville Centennial Free Methodist Church
X-ORIGINAL-URL:https://www.bellevillecentennial.ca
X-WR-CALDESC:Events for Belleville Centennial Free Methodist Church
REFRESH-INTERVAL;VALUE=DURATION:PT1H
X-Robots-Tag:noindex
X-PUBLISHED-TTL:PT1H
BEGIN:VTIMEZONE
TZID:America/Toronto
BEGIN:DAYLIGHT
TZOFFSETFROM:-0500
TZOFFSETTO:-0400
TZNAME:EDT
DTSTART:20210314T070000
END:DAYLIGHT
BEGIN:STANDARD
TZOFFSETFROM:-0400
TZOFFSETTO:-0500
TZNAME:EST
DTSTART:20211107T060000
END:STANDARD
BEGIN:DAYLIGHT
TZOFFSETFROM:-0500
TZOFFSETTO:-0400
TZNAME:EDT
DTSTART:20220313T070000
END:DAYLIGHT
BEGIN:STANDARD
TZOFFSETFROM:-0400
TZOFFSETTO:-0500
TZNAME:EST
DTSTART:20221106T060000
END:STANDARD
BEGIN:DAYLIGHT
TZOFFSETFROM:-0500
TZOFFSETTO:-0400
TZNAME:EDT
DTSTART:20230312T070000
END:DAYLIGHT
BEGIN:STANDARD
TZOFFSETFROM:-0400
TZOFFSETTO:-0500
TZNAME:EST
DTSTART:20231105T060000
END:STANDARD
END:VTIMEZONE
BEGIN:VEVENT
DTSTART;VALUE=DATE:20220802
DTEND;VALUE=DATE:20220803
DTSTAMP:20260423T121528
CREATED:20220626T143445Z
LAST-MODIFIED:20220626T143445Z
UID:1788-1659398400-1659484799@www.bellevillecentennial.ca
SUMMARY:Youth Group On Summer Break
DESCRIPTION:Youth Group is taking a summer break. Will resume again in September.
URL:https://www.bellevillecentennial.ca/upcoming-events/youth-group-on-summer-break-5/
LOCATION:Ontario
END:VEVENT
BEGIN:VEVENT
DTSTART;TZID=America/Toronto:20220803T183000
DTEND;TZID=America/Toronto:20220803T193000
DTSTAMP:20260423T121528
CREATED:20220612T174845Z
LAST-MODIFIED:20220612T174845Z
UID:1759-1659551400-1659555000@www.bellevillecentennial.ca
SUMMARY:Prayer Meeting On Summer Break
DESCRIPTION:Prayer Meeting is taking a summer break. Please take time to pray in your own homes at this time.
URL:https://www.bellevillecentennial.ca/upcoming-events/prayer-meeting-on-summer-break-5/
LOCATION:Ontario
END:VEVENT
BEGIN:VEVENT
DTSTART;TZID=America/Toronto:20220807T103000
DTEND;TZID=America/Toronto:20220807T113000
DTSTAMP:20260423T121528
CREATED:20220626T145039Z
LAST-MODIFIED:20220626T145039Z
UID:1802-1659868200-1659871800@www.bellevillecentennial.ca
SUMMARY:Morning Worship 10:30 AM
DESCRIPTION:Morning Worship starts at 10:30 am. Also see our service online on You Tube Belleville CFMC.
URL:https://www.bellevillecentennial.ca/upcoming-events/morning-worship-1030-am-81/
LOCATION:Ontario
END:VEVENT
BEGIN:VEVENT
DTSTART;VALUE=DATE:20220809
DTEND;VALUE=DATE:20220810
DTSTAMP:20260423T121528
CREATED:20220626T143711Z
LAST-MODIFIED:20220626T143711Z
UID:1790-1660003200-1660089599@www.bellevillecentennial.ca
SUMMARY:Youth Group On Summer Break
DESCRIPTION:Youth Group is taking a summer break. Will resume again in September.
URL:https://www.bellevillecentennial.ca/upcoming-events/youth-group-on-summer-break-6/
LOCATION:Ontario
END:VEVENT
BEGIN:VEVENT
DTSTART;TZID=America/Toronto:20220810T183000
DTEND;TZID=America/Toronto:20220810T193000
DTSTAMP:20260423T121528
CREATED:20220612T175016Z
LAST-MODIFIED:20220612T175016Z
UID:1761-1660156200-1660159800@www.bellevillecentennial.ca
SUMMARY:Prayer Meeting On Summer Break
DESCRIPTION:Prayer Meeting is taking a summer break. Please take time to pray in your own homes at this time.
URL:https://www.bellevillecentennial.ca/upcoming-events/prayer-meeting-on-summer-break-6/
LOCATION:Ontario
END:VEVENT
BEGIN:VEVENT
DTSTART;TZID=America/Toronto:20220814T103000
DTEND;TZID=America/Toronto:20220814T113000
DTSTAMP:20260423T121528
CREATED:20220626T145235Z
LAST-MODIFIED:20220626T145235Z
UID:1804-1660473000-1660476600@www.bellevillecentennial.ca
SUMMARY:Morning Worship 10:30 AM
DESCRIPTION:Morning Worship starts at 10:30 am. Also see our service online on You Tube Belleville CFMC.
URL:https://www.bellevillecentennial.ca/upcoming-events/morning-worship-1030-am-82/
LOCATION:Ontario
END:VEVENT
BEGIN:VEVENT
DTSTART;VALUE=DATE:20220816
DTEND;VALUE=DATE:20220817
DTSTAMP:20260423T121528
CREATED:20220626T143921Z
LAST-MODIFIED:20220626T143921Z
UID:1792-1660608000-1660694399@www.bellevillecentennial.ca
SUMMARY:Youth Group On Summer Break
DESCRIPTION:Youth Group is taking a summer break. Will resume again in September.
URL:https://www.bellevillecentennial.ca/upcoming-events/youth-group-on-summer-break-7/
LOCATION:Ontario
END:VEVENT
BEGIN:VEVENT
DTSTART;TZID=America/Toronto:20220817T183000
DTEND;TZID=America/Toronto:20220817T193000
DTSTAMP:20260423T121528
CREATED:20220612T175151Z
LAST-MODIFIED:20220612T175151Z
UID:1763-1660761000-1660764600@www.bellevillecentennial.ca
SUMMARY:Prayer Meeting On Summer Break
DESCRIPTION:Prayer Meeting is taking a summer break. Please take time to pray in your own homes at this time.
URL:https://www.bellevillecentennial.ca/upcoming-events/prayer-meeting-on-summer-break-7/
LOCATION:Ontario
END:VEVENT
BEGIN:VEVENT
DTSTART;TZID=America/Toronto:20220821T103000
DTEND;TZID=America/Toronto:20220821T113000
DTSTAMP:20260423T121528
CREATED:20220626T145416Z
LAST-MODIFIED:20220626T145416Z
UID:1807-1661077800-1661081400@www.bellevillecentennial.ca
SUMMARY:Morning Worship 10:30 AM
DESCRIPTION:Morning Worship starts at 10:30 am. Also see our service online on You Tube Belleville CFMC.
URL:https://www.bellevillecentennial.ca/upcoming-events/morning-worship-1030-am-83/
LOCATION:Ontario
END:VEVENT
BEGIN:VEVENT
DTSTART;VALUE=DATE:20220823
DTEND;VALUE=DATE:20220824
DTSTAMP:20260423T121528
CREATED:20220626T144114Z
LAST-MODIFIED:20220626T144114Z
UID:1794-1661212800-1661299199@www.bellevillecentennial.ca
SUMMARY:Youth Group On Summer Break
DESCRIPTION:Youth Group is taking a summer break. Will resume again in September.
URL:https://www.bellevillecentennial.ca/upcoming-events/youth-group-on-summer-break-8/
LOCATION:Ontario
END:VEVENT
BEGIN:VEVENT
DTSTART;TZID=America/Toronto:20220824T183000
DTEND;TZID=America/Toronto:20220824T193000
DTSTAMP:20260423T121528
CREATED:20220612T175313Z
LAST-MODIFIED:20220612T175517Z
UID:1765-1661365800-1661369400@www.bellevillecentennial.ca
SUMMARY:Prayer Meeting On Summer Break
DESCRIPTION:Prayer Meeting is taking a summer break. Please take time to pray in your own homes at this time.
URL:https://www.bellevillecentennial.ca/upcoming-events/prayer-meeting-on-summer-break-8/
LOCATION:Ontario
END:VEVENT
BEGIN:VEVENT
DTSTART;TZID=America/Toronto:20220828T103000
DTEND;TZID=America/Toronto:20220828T113000
DTSTAMP:20260423T121528
CREATED:20220626T145551Z
LAST-MODIFIED:20220626T145551Z
UID:1809-1661682600-1661686200@www.bellevillecentennial.ca
SUMMARY:Morning Worship 10:30 AM
DESCRIPTION:Morning Worship starts at 10:30 am. Also see our service online on You Tube Belleville CFMC.
URL:https://www.bellevillecentennial.ca/upcoming-events/morning-worship-1030-am-84/
LOCATION:Ontario
END:VEVENT
BEGIN:VEVENT
DTSTART;VALUE=DATE:20220830
DTEND;VALUE=DATE:20220831
DTSTAMP:20260423T121528
CREATED:20220626T144253Z
LAST-MODIFIED:20220626T144253Z
UID:1796-1661817600-1661903999@www.bellevillecentennial.ca
SUMMARY:Youth Group On Summer Break
DESCRIPTION:Youth Group is taking a summer break. Will resume again in September.
URL:https://www.bellevillecentennial.ca/upcoming-events/youth-group-on-summer-break-9/
LOCATION:Ontario
END:VEVENT
BEGIN:VEVENT
DTSTART;TZID=America/Toronto:20220831T183000
DTEND;TZID=America/Toronto:20220831T193000
DTSTAMP:20260423T121528
CREATED:20220612T175706Z
LAST-MODIFIED:20220612T175706Z
UID:1768-1661970600-1661974200@www.bellevillecentennial.ca
SUMMARY:Prayer Meeting On Summer Break
DESCRIPTION:Prayer Meeting is taking a summer break. Please take time to pray in your own homes at this time.
URL:https://www.bellevillecentennial.ca/upcoming-events/prayer-meeting-on-summer-break-9/
LOCATION:Ontario
END:VEVENT
END:VCALENDAR