BEGIN:VCALENDAR
VERSION:2.0
PRODID:-//Belleville Centennial Free Methodist Church - ECPv6.15.20//NONSGML v1.0//EN
CALSCALE:GREGORIAN
METHOD:PUBLISH
X-ORIGINAL-URL:https://www.bellevillecentennial.ca
X-WR-CALDESC:Events for Belleville Centennial Free Methodist Church
REFRESH-INTERVAL;VALUE=DURATION:PT1H
X-Robots-Tag:noindex
X-PUBLISHED-TTL:PT1H
BEGIN:VTIMEZONE
TZID:America/Toronto
BEGIN:DAYLIGHT
TZOFFSETFROM:-0500
TZOFFSETTO:-0400
TZNAME:EDT
DTSTART:20210314T070000
END:DAYLIGHT
BEGIN:STANDARD
TZOFFSETFROM:-0400
TZOFFSETTO:-0500
TZNAME:EST
DTSTART:20211107T060000
END:STANDARD
BEGIN:DAYLIGHT
TZOFFSETFROM:-0500
TZOFFSETTO:-0400
TZNAME:EDT
DTSTART:20220313T070000
END:DAYLIGHT
BEGIN:STANDARD
TZOFFSETFROM:-0400
TZOFFSETTO:-0500
TZNAME:EST
DTSTART:20221106T060000
END:STANDARD
BEGIN:DAYLIGHT
TZOFFSETFROM:-0500
TZOFFSETTO:-0400
TZNAME:EDT
DTSTART:20230312T070000
END:DAYLIGHT
BEGIN:STANDARD
TZOFFSETFROM:-0400
TZOFFSETTO:-0500
TZNAME:EST
DTSTART:20231105T060000
END:STANDARD
END:VTIMEZONE
BEGIN:VEVENT
DTSTART;TZID=America/Toronto:20220703T103000
DTEND;TZID=America/Toronto:20220703T113000
DTSTAMP:20260423T135347
CREATED:20220508T120636Z
LAST-MODIFIED:20220508T120636Z
UID:1726-1656844200-1656847800@www.bellevillecentennial.ca
SUMMARY:Morning Worship 10:30 AM
DESCRIPTION:Morning Worship starts at 10:30 am. Also see our service online on You Tube Belleville CFMC.
URL:https://www.bellevillecentennial.ca/upcoming-events/morning-worship-1030-am-76/
LOCATION:Ontario
END:VEVENT
BEGIN:VEVENT
DTSTART;VALUE=DATE:20220705
DTEND;VALUE=DATE:20220706
DTSTAMP:20260423T135347
CREATED:20220612T180147Z
LAST-MODIFIED:20220612T180147Z
UID:1771-1656979200-1657065599@www.bellevillecentennial.ca
SUMMARY:Youth Group On Summer Break
DESCRIPTION:Youth Group is taking a summer break. Will resume again in September.
URL:https://www.bellevillecentennial.ca/upcoming-events/youth-group-on-summer-break/
LOCATION:Ontario
END:VEVENT
BEGIN:VEVENT
DTSTART;TZID=America/Toronto:20220706T183000
DTEND;TZID=America/Toronto:20220706T193000
DTSTAMP:20260423T135347
CREATED:20220612T173736Z
LAST-MODIFIED:20220612T173736Z
UID:1749-1657132200-1657135800@www.bellevillecentennial.ca
SUMMARY:Prayer Meeting On Summer Break
DESCRIPTION:Prayer Meeting is taking a summer break. Please take time to pray in your own homes at this time.
URL:https://www.bellevillecentennial.ca/upcoming-events/prayer-meeting-on-summer-break/
LOCATION:Ontario
END:VEVENT
BEGIN:VEVENT
DTSTART;TZID=America/Toronto:20220710T103000
DTEND;TZID=America/Toronto:20220710T113000
DTSTAMP:20260423T135347
CREATED:20220508T120910Z
LAST-MODIFIED:20220508T120910Z
UID:1728-1657449000-1657452600@www.bellevillecentennial.ca
SUMMARY:Morning Worship 10:30 AM
DESCRIPTION:Morning Worship starts at 10:30 am. Also see our service online on You Tube Belleville CFMC.
URL:https://www.bellevillecentennial.ca/upcoming-events/morning-worship-1030-am-77/
LOCATION:Ontario
END:VEVENT
BEGIN:VEVENT
DTSTART;VALUE=DATE:20220712
DTEND;VALUE=DATE:20220713
DTSTAMP:20260423T135347
CREATED:20220626T143003Z
LAST-MODIFIED:20220626T143003Z
UID:1782-1657584000-1657670399@www.bellevillecentennial.ca
SUMMARY:Youth Group On Summer Break
DESCRIPTION:Youth Group is taking a summer break. Will resume again in September.
URL:https://www.bellevillecentennial.ca/upcoming-events/youth-group-on-summer-break-2/
LOCATION:Ontario
END:VEVENT
BEGIN:VEVENT
DTSTART;TZID=America/Toronto:20220713T183000
DTEND;TZID=America/Toronto:20220713T193000
DTSTAMP:20260423T135347
CREATED:20220612T174156Z
LAST-MODIFIED:20220612T174156Z
UID:1751-1657737000-1657740600@www.bellevillecentennial.ca
SUMMARY:Prayer Meeting On Summer Break
DESCRIPTION:Prayer Meeting is taking a summer break. Please take time to pray in your own homes at this time.
URL:https://www.bellevillecentennial.ca/upcoming-events/prayer-meeting-on-summer-break-2/
LOCATION:Ontario
END:VEVENT
BEGIN:VEVENT
DTSTART;TZID=America/Toronto:20220717T103000
DTEND;TZID=America/Toronto:20220717T113000
DTSTAMP:20260423T135347
CREATED:20220508T121152Z
LAST-MODIFIED:20220508T121152Z
UID:1730-1658053800-1658057400@www.bellevillecentennial.ca
SUMMARY:Morning Worship 10:30 AM
DESCRIPTION:Morning Worship starts at 10:30 am. Also see our service online on You Tube Belleville CFMC.
URL:https://www.bellevillecentennial.ca/upcoming-events/morning-worship-1030-am-78/
LOCATION:Ontario
END:VEVENT
BEGIN:VEVENT
DTSTART;VALUE=DATE:20220719
DTEND;VALUE=DATE:20220720
DTSTAMP:20260423T135347
CREATED:20220626T143134Z
LAST-MODIFIED:20220626T143134Z
UID:1784-1658188800-1658275199@www.bellevillecentennial.ca
SUMMARY:Youth Group On Summer Break
DESCRIPTION:Youth Group is taking a summer break. Will resume again in September.
URL:https://www.bellevillecentennial.ca/upcoming-events/youth-group-on-summer-break-3/
LOCATION:Ontario
END:VEVENT
BEGIN:VEVENT
DTSTART;TZID=America/Toronto:20220720T183000
DTEND;TZID=America/Toronto:20220720T193000
DTSTAMP:20260423T135347
CREATED:20220612T174541Z
LAST-MODIFIED:20220612T174541Z
UID:1753-1658341800-1658345400@www.bellevillecentennial.ca
SUMMARY:Prayer Meeting On Summer Break
DESCRIPTION:Prayer Meeting is taking a summer break. Please take time to pray in your own homes at this time.
URL:https://www.bellevillecentennial.ca/upcoming-events/prayer-meeting-on-summer-break-3/
LOCATION:Ontario
END:VEVENT
BEGIN:VEVENT
DTSTART;TZID=America/Toronto:20220724T103000
DTEND;TZID=America/Toronto:20220724T113000
DTSTAMP:20260423T135347
CREATED:20220626T144647Z
LAST-MODIFIED:20220626T144647Z
UID:1798-1658658600-1658662200@www.bellevillecentennial.ca
SUMMARY:Morning Worship 10:30 AM
DESCRIPTION:Morning Worship starts at 10:30 am. Also see our service online on You Tube Belleville CFMC.
URL:https://www.bellevillecentennial.ca/upcoming-events/morning-worship-1030-am-79/
LOCATION:Ontario
END:VEVENT
BEGIN:VEVENT
DTSTART;VALUE=DATE:20220726
DTEND;VALUE=DATE:20220727
DTSTAMP:20260423T135347
CREATED:20220626T143306Z
LAST-MODIFIED:20220626T143306Z
UID:1786-1658793600-1658879999@www.bellevillecentennial.ca
SUMMARY:Youth Group On Summer Break
DESCRIPTION:Youth Group is taking a summer break. Will resume again in September.
URL:https://www.bellevillecentennial.ca/upcoming-events/youth-group-on-summer-break-4/
LOCATION:Ontario
END:VEVENT
BEGIN:VEVENT
DTSTART;TZID=America/Toronto:20220727T183000
DTEND;TZID=America/Toronto:20220727T193000
DTSTAMP:20260423T135347
CREATED:20220612T174706Z
LAST-MODIFIED:20220612T174706Z
UID:1756-1658946600-1658950200@www.bellevillecentennial.ca
SUMMARY:Prayer Meeting On Summer Break
DESCRIPTION:Prayer Meeting is taking a summer break. Please take time to pray in your own homes at this time.
URL:https://www.bellevillecentennial.ca/upcoming-events/prayer-meeting-on-summer-break-4/
LOCATION:Ontario
END:VEVENT
BEGIN:VEVENT
DTSTART;TZID=America/Toronto:20220731T103000
DTEND;TZID=America/Toronto:20220731T113000
DTSTAMP:20260423T135347
CREATED:20220626T144836Z
LAST-MODIFIED:20220626T144836Z
UID:1800-1659263400-1659267000@www.bellevillecentennial.ca
SUMMARY:Morning Worship 10:30 AM
DESCRIPTION:Morning Worship starts at 10:30 am. Also see our service online on You Tube Belleville CFMC.
URL:https://www.bellevillecentennial.ca/upcoming-events/morning-worship-1030-am-80/
LOCATION:Ontario
END:VEVENT
END:VCALENDAR