BEGIN:VCALENDAR
VERSION:2.0
PRODID:-//Belleville Centennial Free Methodist Church - ECPv6.15.20//NONSGML v1.0//EN
CALSCALE:GREGORIAN
METHOD:PUBLISH
X-WR-CALNAME:Belleville Centennial Free Methodist Church
X-ORIGINAL-URL:https://www.bellevillecentennial.ca
X-WR-CALDESC:Events for Belleville Centennial Free Methodist Church
REFRESH-INTERVAL;VALUE=DURATION:PT1H
X-Robots-Tag:noindex
X-PUBLISHED-TTL:PT1H
BEGIN:VTIMEZONE
TZID:America/Toronto
BEGIN:DAYLIGHT
TZOFFSETFROM:-0500
TZOFFSETTO:-0400
TZNAME:EDT
DTSTART:20210314T070000
END:DAYLIGHT
BEGIN:STANDARD
TZOFFSETFROM:-0400
TZOFFSETTO:-0500
TZNAME:EST
DTSTART:20211107T060000
END:STANDARD
BEGIN:DAYLIGHT
TZOFFSETFROM:-0500
TZOFFSETTO:-0400
TZNAME:EDT
DTSTART:20220313T070000
END:DAYLIGHT
BEGIN:STANDARD
TZOFFSETFROM:-0400
TZOFFSETTO:-0500
TZNAME:EST
DTSTART:20221106T060000
END:STANDARD
BEGIN:DAYLIGHT
TZOFFSETFROM:-0500
TZOFFSETTO:-0400
TZNAME:EDT
DTSTART:20230312T070000
END:DAYLIGHT
BEGIN:STANDARD
TZOFFSETFROM:-0400
TZOFFSETTO:-0500
TZNAME:EST
DTSTART:20231105T060000
END:STANDARD
END:VTIMEZONE
BEGIN:VEVENT
DTSTART;TZID=America/Toronto:20220601T183000
DTEND;TZID=America/Toronto:20220601T193000
DTSTAMP:20260423T152736
CREATED:20220410T234352Z
LAST-MODIFIED:20220410T234352Z
UID:1678-1654108200-1654111800@www.bellevillecentennial.ca
SUMMARY:Prayer Meeting 6:30 PM
DESCRIPTION:  \nPrayer Meeting will be meeting at Aldersgate\, 7 Aldersgate Dr. It starts at 6:30 pm in the common room. For those unable to attend please take time to pray in your own homes. Let’s unite for prayer in whatever form possible.
URL:https://www.bellevillecentennial.ca/upcoming-events/prayer-meeting-630-pm-74/
LOCATION:Ontario
END:VEVENT
BEGIN:VEVENT
DTSTART;TZID=America/Toronto:20220605T103000
DTEND;TZID=America/Toronto:20220605T113000
DTSTAMP:20260423T152736
CREATED:20220425T022945Z
LAST-MODIFIED:20220425T022945Z
UID:1708-1654425000-1654428600@www.bellevillecentennial.ca
SUMMARY:Morning Worship 10:30 AM
DESCRIPTION:Morning Worship starts at 10:30 am. Also see our service online on You Tube Belleville CFMC.
URL:https://www.bellevillecentennial.ca/upcoming-events/morning-worship-1030-am-72/
LOCATION:Ontario
END:VEVENT
BEGIN:VEVENT
DTSTART;TZID=America/Toronto:20220607T180000
DTEND;TZID=America/Toronto:20220607T190000
DTSTAMP:20260423T152736
CREATED:20220410T233701Z
LAST-MODIFIED:20220410T233701Z
UID:1674-1654624800-1654628400@www.bellevillecentennial.ca
SUMMARY:Youth Group 6:00 PM
DESCRIPTION:Youth Group 6 until 7 PM at the church. Ages 8 and up. Email Carol at officecfmc@gmail.com for details.
URL:https://www.bellevillecentennial.ca/upcoming-events/youth-group-600-pm-24/
LOCATION:Ontario
END:VEVENT
BEGIN:VEVENT
DTSTART;TZID=America/Toronto:20220608T183000
DTEND;TZID=America/Toronto:20220608T193000
DTSTAMP:20260423T152736
CREATED:20220410T234547Z
LAST-MODIFIED:20220410T234547Z
UID:1680-1654713000-1654716600@www.bellevillecentennial.ca
SUMMARY:Prayer Meeting 6:30 PM
DESCRIPTION: Prayer Meeting will be meeting at Aldersgate\, 7 Aldersgate Dr. It starts at 6:30 pm in the common room. For those unable to attend please take time to pray in your own homes. Let’s unite for prayer in whatever form possible.
URL:https://www.bellevillecentennial.ca/upcoming-events/prayer-meeting-630-pm-75/
LOCATION:Ontario
END:VEVENT
BEGIN:VEVENT
DTSTART;TZID=America/Toronto:20220612T103000
DTEND;TZID=America/Toronto:20220612T113000
DTSTAMP:20260423T152736
CREATED:20220425T023135Z
LAST-MODIFIED:20220425T023135Z
UID:1710-1655029800-1655033400@www.bellevillecentennial.ca
SUMMARY:Morning Worship 10:30 AM
DESCRIPTION:Morning Worship starts at 10:30 am. Also see our service online on You Tube Belleville CFMC.
URL:https://www.bellevillecentennial.ca/upcoming-events/morning-worship-1030-am-73/
LOCATION:Ontario
END:VEVENT
BEGIN:VEVENT
DTSTART;TZID=America/Toronto:20220614T180000
DTEND;TZID=America/Toronto:20220614T190000
DTSTAMP:20260423T152736
CREATED:20220425T022205Z
LAST-MODIFIED:20220425T022205Z
UID:1702-1655229600-1655233200@www.bellevillecentennial.ca
SUMMARY:Youth Group 6:00 PM
DESCRIPTION: Youth Group 6 until 7 PM at the church. Ages 8 and up. Email Carol at officecfmc@gmail.com for details.
URL:https://www.bellevillecentennial.ca/upcoming-events/youth-group-600-pm-25/
LOCATION:Ontario
END:VEVENT
BEGIN:VEVENT
DTSTART;TZID=America/Toronto:20220615T183000
DTEND;TZID=America/Toronto:20220615T193000
DTSTAMP:20260423T152736
CREATED:20220410T235047Z
LAST-MODIFIED:20220410T235047Z
UID:1682-1655317800-1655321400@www.bellevillecentennial.ca
SUMMARY:Prayer Meeting 6:30 PM
DESCRIPTION: Prayer Meeting will be meeting at Aldersgate\, 7 Aldersgate Dr. It starts at 6:30 pm in the common room. For those unable to attend please take time to pray in your own homes. Let’s unite for prayer in whatever form possible.
URL:https://www.bellevillecentennial.ca/upcoming-events/prayer-meeting-630-pm-76/
LOCATION:Ontario
END:VEVENT
BEGIN:VEVENT
DTSTART;TZID=America/Toronto:20220619T103000
DTEND;TZID=America/Toronto:20220619T113000
DTSTAMP:20260423T152736
CREATED:20220425T023310Z
LAST-MODIFIED:20220612T173021Z
UID:1712-1655634600-1655638200@www.bellevillecentennial.ca
SUMMARY:Morning Worship 10:30 AM Guest Speaker Rev. Carl Bull
DESCRIPTION:Morning Worship starts at 10:30 am. Guest Speaker Rev. Carl Bull. Also see our service online on You Tube Belleville CFMC.
URL:https://www.bellevillecentennial.ca/upcoming-events/morning-worship-1030-am-74/
LOCATION:Ontario
END:VEVENT
BEGIN:VEVENT
DTSTART;TZID=America/Toronto:20220621T180000
DTEND;TZID=America/Toronto:20220621T190000
DTSTAMP:20260423T152736
CREATED:20220425T022507Z
LAST-MODIFIED:20220425T022507Z
UID:1704-1655834400-1655838000@www.bellevillecentennial.ca
SUMMARY:Youth Group 6:00 PM
DESCRIPTION: Youth Group 6 until 7 PM at the church. Ages 8 and up. Email Carol at officecfmc@gmail.com for details.
URL:https://www.bellevillecentennial.ca/upcoming-events/youth-group-600-pm-26/
LOCATION:Ontario
END:VEVENT
BEGIN:VEVENT
DTSTART;TZID=America/Toronto:20220622T183000
DTEND;TZID=America/Toronto:20220622T193000
DTSTAMP:20260423T152736
CREATED:20220410T235331Z
LAST-MODIFIED:20220410T235331Z
UID:1684-1655922600-1655926200@www.bellevillecentennial.ca
SUMMARY:Prayer Meeting 6:30 PM
DESCRIPTION: Prayer Meeting will be meeting at Aldersgate\, 7 Aldersgate Dr. It starts at 6:30 pm in the common room. For those unable to attend please take time to pray in your own homes. Let’s unite for prayer in whatever form possible.
URL:https://www.bellevillecentennial.ca/upcoming-events/prayer-meeting-630-pm-77/
LOCATION:Ontario
END:VEVENT
BEGIN:VEVENT
DTSTART;TZID=America/Toronto:20220626T103000
DTEND;TZID=America/Toronto:20220626T113000
DTSTAMP:20260423T152736
CREATED:20220425T023439Z
LAST-MODIFIED:20220425T023439Z
UID:1714-1656239400-1656243000@www.bellevillecentennial.ca
SUMMARY:Morning Worship 10:30 AM
DESCRIPTION:Morning Worship starts at 10:30 am. Also see our service online on You Tube Belleville CFMC.
URL:https://www.bellevillecentennial.ca/upcoming-events/morning-worship-1030-am-75/
LOCATION:Ontario
END:VEVENT
BEGIN:VEVENT
DTSTART;VALUE=DATE:20220628
DTEND;VALUE=DATE:20220629
DTSTAMP:20260423T152736
CREATED:20220425T022644Z
LAST-MODIFIED:20220612T175958Z
UID:1706-1656374400-1656460799@www.bellevillecentennial.ca
SUMMARY:Youth Group On Summer Break
DESCRIPTION:Youth Group is taking a summer break. Will resume again in September.
URL:https://www.bellevillecentennial.ca/upcoming-events/youth-group-600-pm-27/
LOCATION:Ontario
END:VEVENT
BEGIN:VEVENT
DTSTART;TZID=America/Toronto:20220629T183000
DTEND;TZID=America/Toronto:20220629T193000
DTSTAMP:20260423T152736
CREATED:20220410T235528Z
LAST-MODIFIED:20220410T235528Z
UID:1686-1656527400-1656531000@www.bellevillecentennial.ca
SUMMARY:Prayer Meeting 6:30 PM
DESCRIPTION:Prayer Meeting will be meeting at Aldersgate\, 7 Aldersgate Dr. It starts at 6:30 pm in the common room. For those unable to attend please take time to pray in your own homes. Let’s unite for prayer in whatever form possible.
URL:https://www.bellevillecentennial.ca/upcoming-events/prayer-meeting-630-pm-78/
LOCATION:Ontario
END:VEVENT
END:VCALENDAR