BEGIN:VCALENDAR
VERSION:2.0
PRODID:-//Belleville Centennial Free Methodist Church - ECPv6.15.20//NONSGML v1.0//EN
CALSCALE:GREGORIAN
METHOD:PUBLISH
X-ORIGINAL-URL:https://www.bellevillecentennial.ca
X-WR-CALDESC:Events for Belleville Centennial Free Methodist Church
REFRESH-INTERVAL;VALUE=DURATION:PT1H
X-Robots-Tag:noindex
X-PUBLISHED-TTL:PT1H
BEGIN:VTIMEZONE
TZID:America/Toronto
BEGIN:DAYLIGHT
TZOFFSETFROM:-0500
TZOFFSETTO:-0400
TZNAME:EDT
DTSTART:20210314T070000
END:DAYLIGHT
BEGIN:STANDARD
TZOFFSETFROM:-0400
TZOFFSETTO:-0500
TZNAME:EST
DTSTART:20211107T060000
END:STANDARD
BEGIN:DAYLIGHT
TZOFFSETFROM:-0500
TZOFFSETTO:-0400
TZNAME:EDT
DTSTART:20220313T070000
END:DAYLIGHT
BEGIN:STANDARD
TZOFFSETFROM:-0400
TZOFFSETTO:-0500
TZNAME:EST
DTSTART:20221106T060000
END:STANDARD
BEGIN:DAYLIGHT
TZOFFSETFROM:-0500
TZOFFSETTO:-0400
TZNAME:EDT
DTSTART:20230312T070000
END:DAYLIGHT
BEGIN:STANDARD
TZOFFSETFROM:-0400
TZOFFSETTO:-0500
TZNAME:EST
DTSTART:20231105T060000
END:STANDARD
END:VTIMEZONE
BEGIN:VEVENT
DTSTART;TZID=America/Toronto:20220301T180000
DTEND;TZID=America/Toronto:20220301T190000
DTSTAMP:20260423T214954
CREATED:20220109T173229Z
LAST-MODIFIED:20220109T173229Z
UID:1461-1646157600-1646161200@www.bellevillecentennial.ca
SUMMARY:Youth Group 6:00 PM
DESCRIPTION:Youth Group 6 until 7 PM at the church. Ages 8 and up. Email Carol at officecfmc@gmail.com for details.
URL:https://www.bellevillecentennial.ca/upcoming-events/youth-group-600-pm-10/
LOCATION:Ontario
END:VEVENT
BEGIN:VEVENT
DTSTART;TZID=America/Toronto:20220302T183000
DTEND;TZID=America/Toronto:20220302T193000
DTSTAMP:20260423T214954
CREATED:20220109T173514Z
LAST-MODIFIED:20220227T202521Z
UID:1463-1646245800-1646249400@www.bellevillecentennial.ca
SUMMARY:Prayer Meeting 6:30 PM @ Home
DESCRIPTION:Prayer Meeting at home starts at 6:30 pm. Please take time to pray in your own homes at this time. We are uniting for prayer yet apart.
URL:https://www.bellevillecentennial.ca/upcoming-events/prayer-meeting-630-pm-63/
LOCATION:Ontario
END:VEVENT
BEGIN:VEVENT
DTSTART;TZID=America/Toronto:20220306T103000
DTEND;TZID=America/Toronto:20220306T113000
DTSTAMP:20260423T214954
CREATED:20220116T134857Z
LAST-MODIFIED:20220116T134857Z
UID:1471-1646562600-1646566200@www.bellevillecentennial.ca
SUMMARY:Morning Worship 10:30 AM
DESCRIPTION:Morning Worship starts at 10:30 am. Physical distancing measures in place. See our service online on You Tube Belleville CFMC.
URL:https://www.bellevillecentennial.ca/upcoming-events/morning-worship-1030-am-59/
LOCATION:Ontario
END:VEVENT
BEGIN:VEVENT
DTSTART;TZID=America/Toronto:20220308T180000
DTEND;TZID=America/Toronto:20220308T190000
DTSTAMP:20260423T214954
CREATED:20220116T135317Z
LAST-MODIFIED:20220116T135406Z
UID:1473-1646762400-1646766000@www.bellevillecentennial.ca
SUMMARY:Youth Group 6:00 PM
DESCRIPTION: Youth Group 6 until 7 PM at the church. Ages 8 and up. Email Carol at officecfmc@gmail.com for details.
URL:https://www.bellevillecentennial.ca/upcoming-events/youth-group-600-pm-11/
LOCATION:Ontario
END:VEVENT
BEGIN:VEVENT
DTSTART;TZID=America/Toronto:20220309T183000
DTEND;TZID=America/Toronto:20220309T193000
DTSTAMP:20260423T214954
CREATED:20220116T135626Z
LAST-MODIFIED:20220306T171711Z
UID:1475-1646850600-1646854200@www.bellevillecentennial.ca
SUMMARY:Prayer Meeting 6:30 PM @ Aldersgate
DESCRIPTION:Prayer Meeting will be meeting at Aldersgate\, 7 Aldersgate Dr. It starts at 6:30 pm in the common room. For those unable to attend please take time to pray in your own homes. Let’s unite for prayer in whatever form possible.
URL:https://www.bellevillecentennial.ca/upcoming-events/prayer-meeting-630-pm-64/
LOCATION:Ontario
END:VEVENT
BEGIN:VEVENT
DTSTART;TZID=America/Toronto:20220313T103000
DTEND;TZID=America/Toronto:20220313T113000
DTSTAMP:20260423T214954
CREATED:20220124T175144Z
LAST-MODIFIED:20220124T175144Z
UID:1495-1647167400-1647171000@www.bellevillecentennial.ca
SUMMARY:Morning Worship 10:30 AM
DESCRIPTION:Morning Worship starts at 10:30 am. Physical distancing measures in place. See our service online on You Tube Belleville CFMC.
URL:https://www.bellevillecentennial.ca/upcoming-events/morning-worship-1030-am-60/
LOCATION:Ontario
END:VEVENT
BEGIN:VEVENT
DTSTART;VALUE=DATE:20220315
DTEND;VALUE=DATE:20220316
DTSTAMP:20260423T214954
CREATED:20220124T175523Z
LAST-MODIFIED:20220211T213453Z
UID:1497-1647302400-1647388799@www.bellevillecentennial.ca
SUMMARY:No Youth Group This Week
DESCRIPTION:No Youth Group this week. Will return next week March 22nd from 6 until 7 PM at the church. Ages 8 and up. Email Carol at officecfmc@gmail.com for details.
URL:https://www.bellevillecentennial.ca/upcoming-events/youth-group-600-pm-12/
LOCATION:Ontario
END:VEVENT
BEGIN:VEVENT
DTSTART;TZID=America/Toronto:20220316T183000
DTEND;TZID=America/Toronto:20220316T193000
DTSTAMP:20260423T214954
CREATED:20220124T175825Z
LAST-MODIFIED:20220306T172612Z
UID:1499-1647455400-1647459000@www.bellevillecentennial.ca
SUMMARY:Prayer Meeting 6:30 PM @ Aldersgate
DESCRIPTION:Prayer Meeting will be meeting at Aldersgate\, 7 Aldersgate Dr. It starts at 6:30 pm in the common room. For those unable to attend please take time to pray in your own homes. Let’s unite for prayer in whatever form possible.
URL:https://www.bellevillecentennial.ca/upcoming-events/prayer-meeting-630-pm-65/
LOCATION:Ontario
END:VEVENT
BEGIN:VEVENT
DTSTART;TZID=America/Toronto:20220320T103000
DTEND;TZID=America/Toronto:20220320T113000
DTSTAMP:20260423T214954
CREATED:20220129T015702Z
LAST-MODIFIED:20220129T015702Z
UID:1503-1647772200-1647775800@www.bellevillecentennial.ca
SUMMARY:Morning Worship 10:30 AM
DESCRIPTION:Morning Worship starts at 10:30 am. Physical distancing measures in place. See our service online on You Tube Belleville CFMC.
URL:https://www.bellevillecentennial.ca/upcoming-events/morning-worship-1030-am-61/
LOCATION:Ontario
END:VEVENT
BEGIN:VEVENT
DTSTART;TZID=America/Toronto:20220321T183000
DTEND;TZID=America/Toronto:20220321T193000
DTSTAMP:20260423T214954
CREATED:20220130T134313Z
LAST-MODIFIED:20220130T134313Z
UID:1510-1647887400-1647891000@www.bellevillecentennial.ca
SUMMARY:Board Meeting 6:30 PM
DESCRIPTION:Board Meeting at the church 6:30pm
URL:https://www.bellevillecentennial.ca/upcoming-events/board-meeting-630-pm-17/
LOCATION:Ontario
END:VEVENT
BEGIN:VEVENT
DTSTART;TZID=America/Toronto:20220322T180000
DTEND;TZID=America/Toronto:20220322T190000
DTSTAMP:20260423T214954
CREATED:20220130T134611Z
LAST-MODIFIED:20220130T134611Z
UID:1512-1647972000-1647975600@www.bellevillecentennial.ca
SUMMARY:Youth Group 6:00 PM
DESCRIPTION:Youth Group 6 until 7 PM at the church. Ages 8 and up. Email Carol at officecfmc@gmail.com for details.
URL:https://www.bellevillecentennial.ca/upcoming-events/youth-group-600-pm-13/
LOCATION:Ontario
END:VEVENT
BEGIN:VEVENT
DTSTART;TZID=America/Toronto:20220323T183000
DTEND;TZID=America/Toronto:20220323T193000
DTSTAMP:20260423T214954
CREATED:20220130T134810Z
LAST-MODIFIED:20220306T173120Z
UID:1514-1648060200-1648063800@www.bellevillecentennial.ca
SUMMARY:Prayer Meeting 6:30 PM @ Aldersgate
DESCRIPTION:Prayer Meeting will be meeting at Aldersgate\, 7 Aldersgate Dr. It starts at 6:30 pm in the common room. For those unable to attend please take time to pray in your own homes. Let’s unite for prayer in whatever form possible.
URL:https://www.bellevillecentennial.ca/upcoming-events/prayer-meeting-630-pm-66/
LOCATION:Ontario
END:VEVENT
BEGIN:VEVENT
DTSTART;TZID=America/Toronto:20220327T103000
DTEND;TZID=America/Toronto:20220327T113000
DTSTAMP:20260423T214954
CREATED:20220211T214000Z
LAST-MODIFIED:20220211T214000Z
UID:1528-1648377000-1648380600@www.bellevillecentennial.ca
SUMMARY:Morning Worship 10:30 AM
DESCRIPTION:Morning Worship starts at 10:30 am. Physical distancing measures in place. See our service online on You Tube Belleville CFMC.
URL:https://www.bellevillecentennial.ca/upcoming-events/morning-worship-1030-am-62/
LOCATION:Ontario
END:VEVENT
BEGIN:VEVENT
DTSTART;TZID=America/Toronto:20220329T180000
DTEND;TZID=America/Toronto:20220329T190000
DTSTAMP:20260423T214954
CREATED:20220211T214533Z
LAST-MODIFIED:20220211T214533Z
UID:1530-1648576800-1648580400@www.bellevillecentennial.ca
SUMMARY:Youth Group 6:00 PM
DESCRIPTION:Youth Group 6 until 7 PM at the church. Ages 8 and up. Email Carol at officecfmc@gmail.com for details.
URL:https://www.bellevillecentennial.ca/upcoming-events/youth-group-600-pm-14/
LOCATION:Ontario
END:VEVENT
BEGIN:VEVENT
DTSTART;TZID=America/Toronto:20220330T183000
DTEND;TZID=America/Toronto:20220330T193000
DTSTAMP:20260423T214954
CREATED:20220211T214805Z
LAST-MODIFIED:20220306T173742Z
UID:1532-1648665000-1648668600@www.bellevillecentennial.ca
SUMMARY:Prayer Meeting 6:30 PM @ Aldersgate
DESCRIPTION:Prayer Meeting will be meeting at Aldersgate\, 7 Aldersgate Dr. It starts at 6:30 pm in the common room. For those unable to attend please take time to pray in your own homes. Let’s unite for prayer in whatever form possible.
URL:https://www.bellevillecentennial.ca/upcoming-events/prayer-meeting-630-pm-67/
LOCATION:Ontario
END:VEVENT
END:VCALENDAR