BEGIN:VCALENDAR
VERSION:2.0
PRODID:-//Belleville Centennial Free Methodist Church - ECPv6.15.20//NONSGML v1.0//EN
CALSCALE:GREGORIAN
METHOD:PUBLISH
X-WR-CALNAME:Belleville Centennial Free Methodist Church
X-ORIGINAL-URL:https://www.bellevillecentennial.ca
X-WR-CALDESC:Events for Belleville Centennial Free Methodist Church
REFRESH-INTERVAL;VALUE=DURATION:PT1H
X-Robots-Tag:noindex
X-PUBLISHED-TTL:PT1H
BEGIN:VTIMEZONE
TZID:America/Toronto
BEGIN:DAYLIGHT
TZOFFSETFROM:-0500
TZOFFSETTO:-0400
TZNAME:EDT
DTSTART:20250309T070000
END:DAYLIGHT
BEGIN:STANDARD
TZOFFSETFROM:-0400
TZOFFSETTO:-0500
TZNAME:EST
DTSTART:20251102T060000
END:STANDARD
BEGIN:DAYLIGHT
TZOFFSETFROM:-0500
TZOFFSETTO:-0400
TZNAME:EDT
DTSTART:20260308T070000
END:DAYLIGHT
BEGIN:STANDARD
TZOFFSETFROM:-0400
TZOFFSETTO:-0500
TZNAME:EST
DTSTART:20261101T060000
END:STANDARD
BEGIN:DAYLIGHT
TZOFFSETFROM:-0500
TZOFFSETTO:-0400
TZNAME:EDT
DTSTART:20270314T070000
END:DAYLIGHT
BEGIN:STANDARD
TZOFFSETFROM:-0400
TZOFFSETTO:-0500
TZNAME:EST
DTSTART:20271107T060000
END:STANDARD
END:VTIMEZONE
BEGIN:VEVENT
DTSTART;TZID=America/Toronto:20260427T170000
DTEND;TZID=America/Toronto:20260427T183000
DTSTAMP:20260421T045831
CREATED:20260419T200953Z
LAST-MODIFIED:20260419T200953Z
UID:3938-1777309200-1777314600@www.bellevillecentennial.ca
SUMMARY:Safeguarding Plan Refresher Training using Plan to Protect®️ cost-free\, dinner provided\, please sign up
DESCRIPTION:
URL:https://www.bellevillecentennial.ca/upcoming-events/safeguarding-plan-refresher-training-using-plan-to-protect%ef%b8%8f-cost-free-dinner-provided-please-sign-up/
LOCATION:Belleville Centennial Church\, 135 Avondale Road\, Belleville\, Ontario\, K8P 4G4\, Canada
END:VEVENT
END:VCALENDAR