BEGIN:VCALENDAR
VERSION:2.0
PRODID:-//Belleville Centennial Free Methodist Church - ECPv6.15.20//NONSGML v1.0//EN
CALSCALE:GREGORIAN
METHOD:PUBLISH
X-WR-CALNAME:Belleville Centennial Free Methodist Church
X-ORIGINAL-URL:https://www.bellevillecentennial.ca
X-WR-CALDESC:Events for Belleville Centennial Free Methodist Church
REFRESH-INTERVAL;VALUE=DURATION:PT1H
X-Robots-Tag:noindex
X-PUBLISHED-TTL:PT1H
BEGIN:VTIMEZONE
TZID:America/Toronto
BEGIN:DAYLIGHT
TZOFFSETFROM:-0500
TZOFFSETTO:-0400
TZNAME:EDT
DTSTART:20230312T070000
END:DAYLIGHT
BEGIN:STANDARD
TZOFFSETFROM:-0400
TZOFFSETTO:-0500
TZNAME:EST
DTSTART:20231105T060000
END:STANDARD
BEGIN:DAYLIGHT
TZOFFSETFROM:-0500
TZOFFSETTO:-0400
TZNAME:EDT
DTSTART:20240310T070000
END:DAYLIGHT
BEGIN:STANDARD
TZOFFSETFROM:-0400
TZOFFSETTO:-0500
TZNAME:EST
DTSTART:20241103T060000
END:STANDARD
BEGIN:DAYLIGHT
TZOFFSETFROM:-0500
TZOFFSETTO:-0400
TZNAME:EDT
DTSTART:20250309T070000
END:DAYLIGHT
BEGIN:STANDARD
TZOFFSETFROM:-0400
TZOFFSETTO:-0500
TZNAME:EST
DTSTART:20251102T060000
END:STANDARD
END:VTIMEZONE
BEGIN:VEVENT
DTSTART;TZID=America/Toronto:20240207T173000
DTEND;TZID=America/Toronto:20240207T193000
DTSTAMP:20260422T075018
CREATED:20240110T141116Z
LAST-MODIFIED:20240110T142553Z
UID:2707-1707327000-1707334200@www.bellevillecentennial.ca
SUMMARY:Family Night
DESCRIPTION:
URL:https://www.bellevillecentennial.ca/upcoming-events/family-night-4/
LOCATION:Belleville Centennial Church\, 135 Avondale Road\, Belleville\, Ontario\, K8P 4G4\, Canada
END:VEVENT
BEGIN:VEVENT
DTSTART;TZID=America/Toronto:20240207T173000
DTEND;TZID=America/Toronto:20240207T193000
DTSTAMP:20260422T075018
CREATED:20240129T150943Z
LAST-MODIFIED:20240129T150943Z
UID:2741-1707327000-1707334200@www.bellevillecentennial.ca
SUMMARY:Youth Group
DESCRIPTION:
URL:https://www.bellevillecentennial.ca/upcoming-events/youth-group-8/
LOCATION:Belleville Centennial Church\, 135 Avondale Road\, Belleville\, Ontario\, K8P 4G4\, Canada
END:VEVENT
END:VCALENDAR