BEGIN:VCALENDAR
VERSION:2.0
PRODID:-//Belleville Centennial Free Methodist Church - ECPv6.15.20//NONSGML v1.0//EN
CALSCALE:GREGORIAN
METHOD:PUBLISH
X-ORIGINAL-URL:https://www.bellevillecentennial.ca
X-WR-CALDESC:Events for Belleville Centennial Free Methodist Church
REFRESH-INTERVAL;VALUE=DURATION:PT1H
X-Robots-Tag:noindex
X-PUBLISHED-TTL:PT1H
BEGIN:VTIMEZONE
TZID:America/Toronto
BEGIN:DAYLIGHT
TZOFFSETFROM:-0500
TZOFFSETTO:-0400
TZNAME:EDT
DTSTART:20220313T070000
END:DAYLIGHT
BEGIN:STANDARD
TZOFFSETFROM:-0400
TZOFFSETTO:-0500
TZNAME:EST
DTSTART:20221106T060000
END:STANDARD
BEGIN:DAYLIGHT
TZOFFSETFROM:-0500
TZOFFSETTO:-0400
TZNAME:EDT
DTSTART:20230312T070000
END:DAYLIGHT
BEGIN:STANDARD
TZOFFSETFROM:-0400
TZOFFSETTO:-0500
TZNAME:EST
DTSTART:20231105T060000
END:STANDARD
BEGIN:DAYLIGHT
TZOFFSETFROM:-0500
TZOFFSETTO:-0400
TZNAME:EDT
DTSTART:20240310T070000
END:DAYLIGHT
BEGIN:STANDARD
TZOFFSETFROM:-0400
TZOFFSETTO:-0500
TZNAME:EST
DTSTART:20241103T060000
END:STANDARD
END:VTIMEZONE
BEGIN:VEVENT
DTSTART;VALUE=DATE:20230405
DTEND;VALUE=DATE:20230406
DTSTAMP:20260423T002949
CREATED:20230205T162837Z
LAST-MODIFIED:20230402T204320Z
UID:2235-1680652800-1680739199@www.bellevillecentennial.ca
SUMMARY:No Prime Time This Month
DESCRIPTION:There will be no Prime Timers this month.
URL:https://www.bellevillecentennial.ca/upcoming-events/prime-time-1200-pm-3/
LOCATION:Ontario
END:VEVENT
BEGIN:VEVENT
DTSTART;TZID=America/Toronto:20230405T183000
DTEND;TZID=America/Toronto:20230405T193000
DTSTAMP:20260423T002949
CREATED:20230108T182345Z
LAST-MODIFIED:20230108T182345Z
UID:2174-1680719400-1680723000@www.bellevillecentennial.ca
SUMMARY:Prayer Meeting 6:30 PM
DESCRIPTION:Prayer Meeting will be meeting at Aldersgate\, 7 Aldersgate Dr. It starts at 6:30 pm in the common room. For those unable to attend please take time to pray in your own homes. Let’s unite for prayer in whatever form possible.
URL:https://www.bellevillecentennial.ca/upcoming-events/prayer-meeting-630-pm-94/
LOCATION:Ontario
END:VEVENT
END:VCALENDAR