BEGIN:VCALENDAR
VERSION:2.0
PRODID:-//Belleville Centennial Free Methodist Church - ECPv6.15.20//NONSGML v1.0//EN
CALSCALE:GREGORIAN
METHOD:PUBLISH
X-WR-CALNAME:Belleville Centennial Free Methodist Church
X-ORIGINAL-URL:https://www.bellevillecentennial.ca
X-WR-CALDESC:Events for Belleville Centennial Free Methodist Church
REFRESH-INTERVAL;VALUE=DURATION:PT1H
X-Robots-Tag:noindex
X-PUBLISHED-TTL:PT1H
BEGIN:VTIMEZONE
TZID:America/Toronto
BEGIN:DAYLIGHT
TZOFFSETFROM:-0500
TZOFFSETTO:-0400
TZNAME:EDT
DTSTART:20210314T070000
END:DAYLIGHT
BEGIN:STANDARD
TZOFFSETFROM:-0400
TZOFFSETTO:-0500
TZNAME:EST
DTSTART:20211107T060000
END:STANDARD
BEGIN:DAYLIGHT
TZOFFSETFROM:-0500
TZOFFSETTO:-0400
TZNAME:EDT
DTSTART:20220313T070000
END:DAYLIGHT
BEGIN:STANDARD
TZOFFSETFROM:-0400
TZOFFSETTO:-0500
TZNAME:EST
DTSTART:20221106T060000
END:STANDARD
BEGIN:DAYLIGHT
TZOFFSETFROM:-0500
TZOFFSETTO:-0400
TZNAME:EDT
DTSTART:20230312T070000
END:DAYLIGHT
BEGIN:STANDARD
TZOFFSETFROM:-0400
TZOFFSETTO:-0500
TZNAME:EST
DTSTART:20231105T060000
END:STANDARD
END:VTIMEZONE
BEGIN:VEVENT
DTSTART;TZID=America/Toronto:20221120T103000
DTEND;TZID=America/Toronto:20221120T113000
DTSTAMP:20260423T084729
CREATED:20220919T174946Z
LAST-MODIFIED:20221114T015408Z
UID:1928-1668940200-1668943800@www.bellevillecentennial.ca
SUMMARY:Morning Worship with New Life Women's Home 10:30 AM
DESCRIPTION:Morning Worship starts at 10:30 am. New Life Women’s Home will be sharing. Also see our service online on You Tube Belleville CFMC.
URL:https://www.bellevillecentennial.ca/upcoming-events/morning-worship-1030-am-96/
LOCATION:Ontario
END:VEVENT
BEGIN:VEVENT
DTSTART;TZID=America/Toronto:20221120T163000
DTEND;TZID=America/Toronto:20221120T190000
DTSTAMP:20260423T084729
CREATED:20221030T235842Z
LAST-MODIFIED:20221030T235842Z
UID:1989-1668961800-1668970800@www.bellevillecentennial.ca
SUMMARY:Belleville Christmas Parade 4:30PM
DESCRIPTION:The parade begins at the corners of Bridge St. W. and Sidney St. Moving down Bridge St. to completion at The Bayview Mall. We will have a float involved. Hope to see you along the route.
URL:https://www.bellevillecentennial.ca/upcoming-events/belleville-christmas-parade-430pm/
LOCATION:Ontario
END:VEVENT
END:VCALENDAR