BEGIN:VCALENDAR
VERSION:2.0
PRODID:-//Belleville Centennial Free Methodist Church - ECPv6.15.20//NONSGML v1.0//EN
CALSCALE:GREGORIAN
METHOD:PUBLISH
X-ORIGINAL-URL:https://www.bellevillecentennial.ca
X-WR-CALDESC:Events for Belleville Centennial Free Methodist Church
REFRESH-INTERVAL;VALUE=DURATION:PT1H
X-Robots-Tag:noindex
X-PUBLISHED-TTL:PT1H
BEGIN:VTIMEZONE
TZID:America/Toronto
BEGIN:DAYLIGHT
TZOFFSETFROM:-0500
TZOFFSETTO:-0400
TZNAME:EDT
DTSTART:20210314T070000
END:DAYLIGHT
BEGIN:STANDARD
TZOFFSETFROM:-0400
TZOFFSETTO:-0500
TZNAME:EST
DTSTART:20211107T060000
END:STANDARD
BEGIN:DAYLIGHT
TZOFFSETFROM:-0500
TZOFFSETTO:-0400
TZNAME:EDT
DTSTART:20220313T070000
END:DAYLIGHT
BEGIN:STANDARD
TZOFFSETFROM:-0400
TZOFFSETTO:-0500
TZNAME:EST
DTSTART:20221106T060000
END:STANDARD
BEGIN:DAYLIGHT
TZOFFSETFROM:-0500
TZOFFSETTO:-0400
TZNAME:EDT
DTSTART:20230312T070000
END:DAYLIGHT
BEGIN:STANDARD
TZOFFSETFROM:-0400
TZOFFSETTO:-0500
TZNAME:EST
DTSTART:20231105T060000
END:STANDARD
END:VTIMEZONE
BEGIN:VEVENT
DTSTART;TZID=America/Toronto:20221005T120000
DTEND;TZID=America/Toronto:20221005T140000
DTSTAMP:20260423T104114
CREATED:20220919T175611Z
LAST-MODIFIED:20220919T175611Z
UID:1932-1664971200-1664978400@www.bellevillecentennial.ca
SUMMARY:Prime Time 12:00 PM
DESCRIPTION:Prime Time starts at noon at the church. Please contact the church for more details.
URL:https://www.bellevillecentennial.ca/upcoming-events/prime-time-1200-pm/
LOCATION:Ontario
END:VEVENT
BEGIN:VEVENT
DTSTART;TZID=America/Toronto:20221005T183000
DTEND;TZID=America/Toronto:20221005T193000
DTSTAMP:20260423T104114
CREATED:20220912T012449Z
LAST-MODIFIED:20220912T012541Z
UID:1880-1664994600-1664998200@www.bellevillecentennial.ca
SUMMARY:Prayer Meeting 6:30PM
DESCRIPTION:Prayer Meeting will be meeting at Aldersgate\, 7 Aldersgate Dr. It starts at 6:30 pm in the common room. For those unable to attend please take time to pray in your own homes. Let’s unite for prayer in whatever form possible.
URL:https://www.bellevillecentennial.ca/upcoming-events/prayer-meeting-630pm/
LOCATION:Ontario
END:VEVENT
END:VCALENDAR