BEGIN:VCALENDAR
VERSION:2.0
PRODID:-//Belleville Centennial Free Methodist Church - ECPv6.15.20//NONSGML v1.0//EN
CALSCALE:GREGORIAN
METHOD:PUBLISH
X-ORIGINAL-URL:https://www.bellevillecentennial.ca
X-WR-CALDESC:Events for Belleville Centennial Free Methodist Church
REFRESH-INTERVAL;VALUE=DURATION:PT1H
X-Robots-Tag:noindex
X-PUBLISHED-TTL:PT1H
BEGIN:VTIMEZONE
TZID:America/Toronto
BEGIN:DAYLIGHT
TZOFFSETFROM:-0500
TZOFFSETTO:-0400
TZNAME:EDT
DTSTART:20200308T070000
END:DAYLIGHT
BEGIN:STANDARD
TZOFFSETFROM:-0400
TZOFFSETTO:-0500
TZNAME:EST
DTSTART:20201101T060000
END:STANDARD
BEGIN:DAYLIGHT
TZOFFSETFROM:-0500
TZOFFSETTO:-0400
TZNAME:EDT
DTSTART:20210314T070000
END:DAYLIGHT
BEGIN:STANDARD
TZOFFSETFROM:-0400
TZOFFSETTO:-0500
TZNAME:EST
DTSTART:20211107T060000
END:STANDARD
BEGIN:DAYLIGHT
TZOFFSETFROM:-0500
TZOFFSETTO:-0400
TZNAME:EDT
DTSTART:20220313T070000
END:DAYLIGHT
BEGIN:STANDARD
TZOFFSETFROM:-0400
TZOFFSETTO:-0500
TZNAME:EST
DTSTART:20221106T060000
END:STANDARD
END:VTIMEZONE
BEGIN:VEVENT
DTSTART;VALUE=DATE:20211228
DTEND;VALUE=DATE:20211229
DTSTAMP:20260424T012308
CREATED:20211205T230147Z
LAST-MODIFIED:20211205T230147Z
UID:1318-1640649600-1640735999@www.bellevillecentennial.ca
SUMMARY:No Youth Group
DESCRIPTION:No Youth Group this week. Will return on January 4\, 2022 Email Carol at officecfmc@gmail.com for details. \n 
URL:https://www.bellevillecentennial.ca/upcoming-events/no-youth-group/
LOCATION:Ontario
END:VEVENT
END:VCALENDAR